BEGIN:VCALENDAR
VERSION:2.0
PRODID:-//American Young Coder - ECPv6.10.1.1//NONSGML v1.0//EN
CALSCALE:GREGORIAN
METHOD:PUBLISH
X-ORIGINAL-URL:https://www.ayclogic.com
X-WR-CALDESC:Events for American Young Coder
REFRESH-INTERVAL;VALUE=DURATION:PT1H
X-Robots-Tag:noindex
X-PUBLISHED-TTL:PT1H
BEGIN:VTIMEZONE
TZID:America/Los_Angeles
BEGIN:DAYLIGHT
TZOFFSETFROM:-0800
TZOFFSETTO:-0700
TZNAME:PDT
DTSTART:20230312T100000
END:DAYLIGHT
BEGIN:STANDARD
TZOFFSETFROM:-0700
TZOFFSETTO:-0800
TZNAME:PST
DTSTART:20231105T090000
END:STANDARD
END:VTIMEZONE
BEGIN:VEVENT
DTSTART;TZID=America/Los_Angeles:20231223T154000
DTEND;TZID=America/Los_Angeles:20231223T170000
DTSTAMP:20260424T084811
CREATED:20231224T021448Z
LAST-MODIFIED:20231224T021752Z
UID:23205-1703346000-1703350800@www.ayclogic.com
SUMMARY:4 PM – Intro To Java – William
DESCRIPTION:Today We Did\n\nFinished learning about HashMaps\n\ncontainsKey()\nReplace values\nremove()\nsize()\nkeySet()\nvalues()\n\n\nStarted EmailApplication\n\ncreateEmailAccount()\nCreated EmailAccount class\n\n\n\nHomework\nWork on EmailApplication: \n\nCreate getter methods for EmailAccount (refer to Student in SchoolApplication as reference)\nImplement listAllEmailAccounts():\n\nPrint the message: “We have a total of __ email accounts in our system!”\nList all accounts in the system in the format: “#. (name) – (email)”\nThe output should look something like:\n\n\n\nPlease select an item below:\n1. Create an email account\n2. Login\n3. List all email accounts\n4. Exit\nPlease make your selection (1-4): 3\n\nWe have a total of 3 email accounts in our system!\n\n1. Elijah Tshing - iamverycool@gmail.com\n\n2. Jayden Chong - tomato@outlook.com\n\n3. Shawn Zhuang - szhuang@ayclogic.com\nREMINDER: NO CLASS NEXT WEEK. Happy Holidays! \nIf you have any questions\, please email me at williamsmith@ayclogic.com.
URL:https://www.ayclogic.com/event/4-pm-intro-to-java-william-5/
CATEGORIES:Introduction To Java,Java
END:VEVENT
END:VCALENDAR