BEGIN:VCALENDAR
VERSION:2.0
PRODID:-//American Young Coder - ECPv6.10.1.1//NONSGML v1.0//EN
CALSCALE:GREGORIAN
METHOD:PUBLISH
X-ORIGINAL-URL:https://www.ayclogic.com
X-WR-CALDESC:Events for American Young Coder
REFRESH-INTERVAL;VALUE=DURATION:PT1H
X-Robots-Tag:noindex
X-PUBLISHED-TTL:PT1H
BEGIN:VTIMEZONE
TZID:America/Los_Angeles
BEGIN:DAYLIGHT
TZOFFSETFROM:-0800
TZOFFSETTO:-0700
TZNAME:PDT
DTSTART:20240310T100000
END:DAYLIGHT
BEGIN:STANDARD
TZOFFSETFROM:-0700
TZOFFSETTO:-0800
TZNAME:PST
DTSTART:20241103T090000
END:STANDARD
END:VTIMEZONE
BEGIN:VEVENT
DTSTART;TZID=America/Los_Angeles:20240106T160000
DTEND;TZID=America/Los_Angeles:20240106T170000
DTSTAMP:20260424T071707
CREATED:20240107T005535Z
LAST-MODIFIED:20240107T005535Z
UID:23302-1704556800-1704560400@www.ayclogic.com
SUMMARY:4 PM - Intro To Java - William
DESCRIPTION:Gamas sub \nToday We Did\n\nWe created SchoolApplication2 project.\nWe copied all codes from SchoolApplication to this new project.\nWe replaced studentList into studentMap and used firstName as the key.\nWe added studentMapById and used studentId as the key.\n\nHomework\n\nAdd code to make the “8. Find student by studentId”.\nReplace teacherList with teacherMap and fix all the errors. Use teacher.firstName as the key.\nI want when the program starts\, immediately add 3 students\n\nGamas Chang\, 12th grade\, 18 years old.\nVincent Chang\, 7th grade\, 12 years old.\nLeon Chen\, 9th grade\, 14 years old.
URL:https://www.ayclogic.com/event/4-pm-intro-to-java-william-6/
CATEGORIES:Introduction To Java
END:VEVENT
END:VCALENDAR