BEGIN:VCALENDAR
VERSION:2.0
PRODID:-//American Young Coder - ECPv6.10.1.1//NONSGML v1.0//EN
CALSCALE:GREGORIAN
METHOD:PUBLISH
X-WR-CALNAME:American Young Coder
X-ORIGINAL-URL:https://www.ayclogic.com
X-WR-CALDESC:Events for American Young Coder
REFRESH-INTERVAL;VALUE=DURATION:PT1H
X-Robots-Tag:noindex
X-PUBLISHED-TTL:PT1H
BEGIN:VTIMEZONE
TZID:America/Los_Angeles
BEGIN:DAYLIGHT
TZOFFSETFROM:-0800
TZOFFSETTO:-0700
TZNAME:PDT
DTSTART:20240310T100000
END:DAYLIGHT
BEGIN:STANDARD
TZOFFSETFROM:-0700
TZOFFSETTO:-0800
TZNAME:PST
DTSTART:20241103T090000
END:STANDARD
END:VTIMEZONE
BEGIN:VEVENT
DTSTART;TZID=America/Los_Angeles:20240120T160000
DTEND;TZID=America/Los_Angeles:20240120T170000
DTSTAMP:20260424T071610
CREATED:20240121T022909Z
LAST-MODIFIED:20240121T022909Z
UID:23553-1705766400-1705770000@www.ayclogic.com
SUMMARY:4 PM – Intro To Java – William
DESCRIPTION:Today We Did\n\nReviewed PetSystem errors\nReviewed Practice Quiz\n\nHomework\n\nStudy for the quiz next week! It will last the entire class period and be open-note. If you haven’t done the practice yet\, I recommend completing it and emailing me once you’re done. I recommend studying the following:\n\nSchoolApplication\n\nConstructor\nGetter/Setter methods\nWorking with attributes\n\n\nLists/Maps\n\n\n\nIf you have any questions\, please email me at williamsmith@ayclogic.com. Good luck!
URL:https://www.ayclogic.com/event/4-pm-intro-to-java-william-8/
CATEGORIES:Introduction To Java,Java
END:VEVENT
END:VCALENDAR