BEGIN:VCALENDAR
VERSION:2.0
PRODID:-//American Young Coder - ECPv6.10.1.1//NONSGML v1.0//EN
CALSCALE:GREGORIAN
METHOD:PUBLISH
X-WR-CALNAME:American Young Coder
X-ORIGINAL-URL:https://www.ayclogic.com
X-WR-CALDESC:Events for American Young Coder
REFRESH-INTERVAL;VALUE=DURATION:PT1H
X-Robots-Tag:noindex
X-PUBLISHED-TTL:PT1H
BEGIN:VTIMEZONE
TZID:America/Los_Angeles
BEGIN:DAYLIGHT
TZOFFSETFROM:-0800
TZOFFSETTO:-0700
TZNAME:PDT
DTSTART:20240310T100000
END:DAYLIGHT
BEGIN:STANDARD
TZOFFSETFROM:-0700
TZOFFSETTO:-0800
TZNAME:PST
DTSTART:20241103T090000
END:STANDARD
END:VTIMEZONE
BEGIN:VEVENT
DTSTART;TZID=America/Los_Angeles:20240429T190000
DTEND;TZID=America/Los_Angeles:20240429T200000
DTSTAMP:20260422T001704
CREATED:20240430T032105Z
LAST-MODIFIED:20240430T032105Z
UID:24942-1714417200-1714420800@www.ayclogic.com
SUMMARY:7 PM – Intro to Java – Sebastian
DESCRIPTION:Today We Did \n\nReviewed how conditions work\nLearned about Java if statements\nReviewed the and / or operators\nLearned about how to compare strings in Java (not just using ==)\nAYC Logic’s observed holidays: https://www.ayclogic.com/observed-holidays/\nIn case you need anything\, feel free to email me at sebastian@ayclogic.com\n\nHomework\n\nPlease submit your homework into your Google Drive\nHomework: https://www.ayclogic.com/java-exercise-2b-input-from-shell-and-if-else/
URL:https://www.ayclogic.com/event/7-pm-intro-to-java-sebastian-2/
CATEGORIES:Introduction To Java,Java
END:VEVENT
END:VCALENDAR