BEGIN:VCALENDAR
VERSION:2.0
PRODID:-//American Young Coder - ECPv6.10.1.1//NONSGML v1.0//EN
CALSCALE:GREGORIAN
METHOD:PUBLISH
X-ORIGINAL-URL:https://www.ayclogic.com
X-WR-CALDESC:Events for American Young Coder
REFRESH-INTERVAL;VALUE=DURATION:PT1H
X-Robots-Tag:noindex
X-PUBLISHED-TTL:PT1H
BEGIN:VTIMEZONE
TZID:America/Los_Angeles
BEGIN:DAYLIGHT
TZOFFSETFROM:-0800
TZOFFSETTO:-0700
TZNAME:PDT
DTSTART:20240310T100000
END:DAYLIGHT
BEGIN:STANDARD
TZOFFSETFROM:-0700
TZOFFSETTO:-0800
TZNAME:PST
DTSTART:20241103T090000
END:STANDARD
END:VTIMEZONE
BEGIN:VEVENT
DTSTART;TZID=America/Los_Angeles:20240504T160000
DTEND;TZID=America/Los_Angeles:20240504T170000
DTSTAMP:20260421T223903
CREATED:20240505T012826Z
LAST-MODIFIED:20240505T012826Z
UID:24995-1714838400-1714842000@www.ayclogic.com
SUMMARY:4 PM – Intro To Java – William
DESCRIPTION:Today We Did\n\nReviewed Practice Final (TaxiDriverSystem)\n\nSolution can be found in our Google Drive here: https://drive.google.com/drive/folders/1b_4rMxapEAcj8rjxQ4rWxTmIKHTBjolR?usp=drive_link \nHomework\nNo homework for this week! Review for our final next week (2 hours). I recommend studying the following: \n\nPractice Final\nQuiz\nTopics:\n\nInheritance\nHashMap\n\n\n\nGood luck! \nIf you have any questions\, please email me at williamsmith@ayclogic.com.
URL:https://www.ayclogic.com/event/4-pm-intro-to-java-william-22/
CATEGORIES:Introduction To Java,Java
END:VEVENT
END:VCALENDAR