BEGIN:VCALENDAR
VERSION:2.0
PRODID:-//American Young Coder - ECPv6.10.1.1//NONSGML v1.0//EN
CALSCALE:GREGORIAN
METHOD:PUBLISH
X-ORIGINAL-URL:https://www.ayclogic.com
X-WR-CALDESC:Events for American Young Coder
REFRESH-INTERVAL;VALUE=DURATION:PT1H
X-Robots-Tag:noindex
X-PUBLISHED-TTL:PT1H
BEGIN:VTIMEZONE
TZID:America/Los_Angeles
BEGIN:DAYLIGHT
TZOFFSETFROM:-0800
TZOFFSETTO:-0700
TZNAME:PDT
DTSTART:20240310T100000
END:DAYLIGHT
BEGIN:STANDARD
TZOFFSETFROM:-0700
TZOFFSETTO:-0800
TZNAME:PST
DTSTART:20241103T090000
END:STANDARD
END:VTIMEZONE
BEGIN:VEVENT
DTSTART;TZID=America/Los_Angeles:20240506T190000
DTEND;TZID=America/Los_Angeles:20240506T200000
DTSTAMP:20260421T224004
CREATED:20240507T030047Z
LAST-MODIFIED:20240507T030047Z
UID:25026-1715022000-1715025600@www.ayclogic.com
SUMMARY:7 PM – Intro to Java – Sebastian
DESCRIPTION:Today We Did \n\nLearned about lists\nLearned about for loops\nAYC Logic’s observed holidays: https://www.ayclogic.com/observed-holidays/\nIn case you need anything\, feel free to email me at sebastian@ayclogic.com\n\nHomework\n\nPlease submit your homework into your Google Drive\nHomework: Parts 1 & 2 from here (don’t worry about the “simple Game inventory system”)\nhttps://www.ayclogic.com/java-list-forloop/
URL:https://www.ayclogic.com/event/7-pm-intro-to-java-sebastian-3/
CATEGORIES:Introduction To Java,Java
END:VEVENT
END:VCALENDAR