BEGIN:VCALENDAR
VERSION:2.0
PRODID:-//American Young Coder - ECPv6.10.1.1//NONSGML v1.0//EN
CALSCALE:GREGORIAN
METHOD:PUBLISH
X-WR-CALNAME:American Young Coder
X-ORIGINAL-URL:https://www.ayclogic.com
X-WR-CALDESC:Events for American Young Coder
REFRESH-INTERVAL;VALUE=DURATION:PT1H
X-Robots-Tag:noindex
X-PUBLISHED-TTL:PT1H
BEGIN:VTIMEZONE
TZID:America/Los_Angeles
BEGIN:DAYLIGHT
TZOFFSETFROM:-0800
TZOFFSETTO:-0700
TZNAME:PDT
DTSTART:20240310T100000
END:DAYLIGHT
BEGIN:STANDARD
TZOFFSETFROM:-0700
TZOFFSETTO:-0800
TZNAME:PST
DTSTART:20241103T090000
END:STANDARD
END:VTIMEZONE
BEGIN:VEVENT
DTSTART;TZID=America/Los_Angeles:20240521T180000
DTEND;TZID=America/Los_Angeles:20240521T190000
DTSTAMP:20260420T111639
CREATED:20240522T020046Z
LAST-MODIFIED:20240522T020046Z
UID:25189-1716314400-1716318000@www.ayclogic.com
SUMMARY:6 PM – Advanced Python Game Development – Sebastian
DESCRIPTION:Today We Did \n\nIntroduced the idea of regions to enemy class\nChange enemy movement depending on which region the enemy is in\nLearned faster way to detect what x/y locations are in certain positions on the screen\nYou can always find the code we wrote in class in my Gitlab repository here:\nhttps://gitlab.com/gsugiart/tue-6-pm-sebastian-apr-2024\nAYC Logic’s observed holidays: https://www.ayclogic.com/observed-holidays/\nIn case you need anything\, feel free to email me at sebastian@ayclogic.com\n\nHomework\n\nHomework: Refine the movement of enemies to look like they’re on the path more by slightly modifying the amount we add to the x/y. Next class we can all share screens & see who made movement smoothest
URL:https://www.ayclogic.com/event/6-pm-advanced-python-game-development-sebastian-6/
CATEGORIES:Introduction To Java,Java
END:VEVENT
END:VCALENDAR