BEGIN:VCALENDAR
VERSION:2.0
PRODID:-//American Young Coder - ECPv6.10.1.1//NONSGML v1.0//EN
CALSCALE:GREGORIAN
METHOD:PUBLISH
X-ORIGINAL-URL:https://www.ayclogic.com
X-WR-CALDESC:Events for American Young Coder
REFRESH-INTERVAL;VALUE=DURATION:PT1H
X-Robots-Tag:noindex
X-PUBLISHED-TTL:PT1H
BEGIN:VTIMEZONE
TZID:America/Los_Angeles
BEGIN:DAYLIGHT
TZOFFSETFROM:-0800
TZOFFSETTO:-0700
TZNAME:PDT
DTSTART:20240310T100000
END:DAYLIGHT
BEGIN:STANDARD
TZOFFSETFROM:-0700
TZOFFSETTO:-0800
TZNAME:PST
DTSTART:20241103T090000
END:STANDARD
END:VTIMEZONE
BEGIN:VEVENT
DTSTART;TZID=America/Los_Angeles:20240604T170000
DTEND;TZID=America/Los_Angeles:20240604T180000
DTSTAMP:20260421T204944
CREATED:20240605T010855Z
LAST-MODIFIED:20240605T010855Z
UID:25351-1717520400-1717524000@www.ayclogic.com
SUMMARY:5 PM - Intro To Java - Gamas
DESCRIPTION:Today We Did\n\nWe went over SchoolSystem.findStudentByMap\nWe learned how to fix java problems in PetSystem\n\nJava syntax problems or AKA errors.\nJava non-syntax problems where there is no errors\, but behavior is not as expected AKA bugs.\n\n\n\nHomework\n\nDo number 1 to 10 practice quiz. It is due on Monday night. Quiz is google form. Use intelliJ to produce the codes and then copy and paste the code and submit. You probably going to need at least around 1 hour to do this quiz. You should have the practice quiz in your email. If you lost it\, reach out to me at (626) 532-7844.
URL:https://www.ayclogic.com/event/5-pm-intro-to-java-gamas-21/
CATEGORIES:Introduction To Java,Java
END:VEVENT
END:VCALENDAR