BEGIN:VCALENDAR
VERSION:2.0
PRODID:-//American Young Coder - ECPv6.10.1.1//NONSGML v1.0//EN
CALSCALE:GREGORIAN
METHOD:PUBLISH
X-ORIGINAL-URL:https://www.ayclogic.com
X-WR-CALDESC:Events for American Young Coder
REFRESH-INTERVAL;VALUE=DURATION:PT1H
X-Robots-Tag:noindex
X-PUBLISHED-TTL:PT1H
BEGIN:VTIMEZONE
TZID:America/Los_Angeles
BEGIN:DAYLIGHT
TZOFFSETFROM:-0800
TZOFFSETTO:-0700
TZNAME:PDT
DTSTART:20240310T100000
END:DAYLIGHT
BEGIN:STANDARD
TZOFFSETFROM:-0700
TZOFFSETTO:-0800
TZNAME:PST
DTSTART:20241103T090000
END:STANDARD
END:VTIMEZONE
BEGIN:VEVENT
DTSTART;TZID=America/Los_Angeles:20240720T183000
DTEND;TZID=America/Los_Angeles:20240720T193000
DTSTAMP:20260421T185504
CREATED:20240721T011215Z
LAST-MODIFIED:20240721T011215Z
UID:26069-1721500200-1721503800@www.ayclogic.com
SUMMARY:SAT – 6:30 PM – Intro To Java – Darin
DESCRIPTION:What We Did Today:\n\nDid the first quiz in Java.\n\nHomework:\n\nNone!\n\nIf you have any questions\, you can reach out to me at ddjapri@ayclogic.com
URL:https://www.ayclogic.com/event/sat-630-pm-intro-to-java-darin/
CATEGORIES:Introduction To Java,Java
END:VEVENT
END:VCALENDAR