BEGIN:VCALENDAR
VERSION:2.0
PRODID:-//American Young Coder - ECPv6.10.1.1//NONSGML v1.0//EN
CALSCALE:GREGORIAN
METHOD:PUBLISH
X-WR-CALNAME:American Young Coder
X-ORIGINAL-URL:https://www.ayclogic.com
X-WR-CALDESC:Events for American Young Coder
REFRESH-INTERVAL;VALUE=DURATION:PT1H
X-Robots-Tag:noindex
X-PUBLISHED-TTL:PT1H
BEGIN:VTIMEZONE
TZID:America/Los_Angeles
BEGIN:DAYLIGHT
TZOFFSETFROM:-0800
TZOFFSETTO:-0700
TZNAME:PDT
DTSTART:20240310T100000
END:DAYLIGHT
BEGIN:STANDARD
TZOFFSETFROM:-0700
TZOFFSETTO:-0800
TZNAME:PST
DTSTART:20241103T090000
END:STANDARD
END:VTIMEZONE
BEGIN:VEVENT
DTSTART;TZID=America/Los_Angeles:20240807T190000
DTEND;TZID=America/Los_Angeles:20240807T200000
DTSTAMP:20260420T111612
CREATED:20240808T030900Z
LAST-MODIFIED:20240808T030900Z
UID:26352-1723057200-1723060800@www.ayclogic.com
SUMMARY:7 PM – Intro To Java – Darin
DESCRIPTION:What We Did Today:\n\nContinued the Temperature Converter project in Android Studio\, implementing the conversion from Fahrenheit to Celsius\nLearnt about the structure of android applications with manifests.xml and strings.xml\, a resource file for other files to use\n\nHomework:\n\nFinish your Driver System final exam practice if you aren’t done with it already!\nChange the app name of the android application to a name that is in a foreign language (non-alphabetical) through strings.xml if you haven’t done so already!\n\n\n\nNotes:\nIf you have any questions\, you may reach out to me at ddjapri@ayclogic.com.
URL:https://www.ayclogic.com/event/7-pm-intro-to-java-darin-14/
CATEGORIES:Introduction To Java,Java
END:VEVENT
END:VCALENDAR