BEGIN:VCALENDAR
VERSION:2.0
PRODID:-//American Young Coder - ECPv6.10.1.1//NONSGML v1.0//EN
CALSCALE:GREGORIAN
METHOD:PUBLISH
X-WR-CALNAME:American Young Coder
X-ORIGINAL-URL:https://www.ayclogic.com
X-WR-CALDESC:Events for American Young Coder
REFRESH-INTERVAL;VALUE=DURATION:PT1H
X-Robots-Tag:noindex
X-PUBLISHED-TTL:PT1H
BEGIN:VTIMEZONE
TZID:America/Los_Angeles
BEGIN:DAYLIGHT
TZOFFSETFROM:-0800
TZOFFSETTO:-0700
TZNAME:PDT
DTSTART:20240310T100000
END:DAYLIGHT
BEGIN:STANDARD
TZOFFSETFROM:-0700
TZOFFSETTO:-0800
TZNAME:PST
DTSTART:20241103T090000
END:STANDARD
END:VTIMEZONE
BEGIN:VEVENT
DTSTART;TZID=America/Los_Angeles:20240812T190000
DTEND;TZID=America/Los_Angeles:20240812T200000
DTSTAMP:20260421T185222
CREATED:20240812T102615Z
LAST-MODIFIED:20240813T030225Z
UID:26425-1723489200-1723492800@www.ayclogic.com
SUMMARY:7 PM – Intro To Java – Darin
DESCRIPTION:What We Did Today:\n\nContinued the Monster Inheritance Project\, implementing the play method for attacking and healing the monsters.\nIntroduced Inheritance in Java through the magic attack system.\n\nHomework:\nSubmit your code to the google drive when you are finished! \n\nCreate the arrowAttack method for selection 3 in the play method\, where you deal a random amount of damage from 5 – 20 to the selected monster.\nCreate the getAttacked method where the monster attacks you with a random amount from (a lower bound u make up) to (m.getMaxAttack()) and use it in all 3 attack methods in play().\n\nNotes:\nIf you have any questions\, you can email me at ddjapri@ayclogic.com \nAYC Logic’s observed holidays: https://www.ayclogic.com/observed-holidays/
URL:https://www.ayclogic.com/event/7-pm-intro-to-java-darin-15/
CATEGORIES:Introduction To Java,Java
END:VEVENT
END:VCALENDAR