BEGIN:VCALENDAR
VERSION:2.0
PRODID:-//American Young Coder - ECPv6.10.1.1//NONSGML v1.0//EN
CALSCALE:GREGORIAN
METHOD:PUBLISH
X-ORIGINAL-URL:https://www.ayclogic.com
X-WR-CALDESC:Events for American Young Coder
REFRESH-INTERVAL;VALUE=DURATION:PT1H
X-Robots-Tag:noindex
X-PUBLISHED-TTL:PT1H
BEGIN:VTIMEZONE
TZID:America/Los_Angeles
BEGIN:DAYLIGHT
TZOFFSETFROM:-0800
TZOFFSETTO:-0700
TZNAME:PDT
DTSTART:20240310T100000
END:DAYLIGHT
BEGIN:STANDARD
TZOFFSETFROM:-0700
TZOFFSETTO:-0800
TZNAME:PST
DTSTART:20241103T090000
END:STANDARD
END:VTIMEZONE
BEGIN:VEVENT
DTSTART;TZID=America/Los_Angeles:20240819T190000
DTEND;TZID=America/Los_Angeles:20240819T200000
DTSTAMP:20260421T170449
CREATED:20240820T030239Z
LAST-MODIFIED:20240820T030239Z
UID:26539-1724094000-1724097600@www.ayclogic.com
SUMMARY:7 PM – Intro To Java – Darin
DESCRIPTION:What We Did Today:\n\nContinued the Monster Inheritance Project\, implementing inheritance in the magic attack system for immunity.\n\nHomework:\nSubmit your code to the google drive when you are finished! \n\nCreate a slime class that inherits from the Monster class\, but make the slime weak to fire magic and deal double damage\, but immune to water magic.\n\nNotes:\nIf you have any questions\, you can email me at ddjapri@ayclogic.com \nAYC Logic’s observed holidays: https://www.ayclogic.com/observed-holidays/
URL:https://www.ayclogic.com/event/7-pm-intro-to-java-darin-17/
CATEGORIES:Introduction To Java,Java
END:VEVENT
END:VCALENDAR