BEGIN:VCALENDAR
VERSION:2.0
PRODID:-//American Young Coder - ECPv6.10.1.1//NONSGML v1.0//EN
CALSCALE:GREGORIAN
METHOD:PUBLISH
X-WR-CALNAME:American Young Coder
X-ORIGINAL-URL:https://www.ayclogic.com
X-WR-CALDESC:Events for American Young Coder
REFRESH-INTERVAL;VALUE=DURATION:PT1H
X-Robots-Tag:noindex
X-PUBLISHED-TTL:PT1H
BEGIN:VTIMEZONE
TZID:America/Los_Angeles
BEGIN:DAYLIGHT
TZOFFSETFROM:-0800
TZOFFSETTO:-0700
TZNAME:PDT
DTSTART:20240310T100000
END:DAYLIGHT
BEGIN:STANDARD
TZOFFSETFROM:-0700
TZOFFSETTO:-0800
TZNAME:PST
DTSTART:20241103T090000
END:STANDARD
END:VTIMEZONE
BEGIN:VEVENT
DTSTART;TZID=America/Los_Angeles:20240824T183000
DTEND;TZID=America/Los_Angeles:20240824T193000
DTSTAMP:20260421T170042
CREATED:20240824T211524Z
LAST-MODIFIED:20240826T165044Z
UID:26609-1724524200-1724527800@www.ayclogic.com
SUMMARY:6:30 PM – Intro To Java – Darin
DESCRIPTION:No Class Next Week due to Holiday!\nWhat We Did Today:\n\nExplored android studio\, how the two main files (activity_main.xml and MainActivity.java works)\nNext time we meet\, we will utilize the ID’s to control the elements on the screen\n\nHomework:\n\nAdd ID’s to the elements of the android studio project Temperature Converter.\nFahrenheit: originalTempLabel\nCelsius: convertedTempLabel\nInput underline: originalTempValue\noutput TextView: convertedTempValue\nButton: convertButton\n\nNotes:\nYou can email me at ddjapri@ayclogic.com if you have any questions!
URL:https://www.ayclogic.com/event/630-pm-intro-to-java-darin-5/
CATEGORIES:Introduction To Java,Java
END:VEVENT
END:VCALENDAR