BEGIN:VCALENDAR
VERSION:2.0
PRODID:-//American Young Coder - ECPv6.10.1.1//NONSGML v1.0//EN
CALSCALE:GREGORIAN
METHOD:PUBLISH
X-ORIGINAL-URL:https://www.ayclogic.com
X-WR-CALDESC:Events for American Young Coder
REFRESH-INTERVAL;VALUE=DURATION:PT1H
X-Robots-Tag:noindex
X-PUBLISHED-TTL:PT1H
BEGIN:VTIMEZONE
TZID:America/Los_Angeles
BEGIN:DAYLIGHT
TZOFFSETFROM:-0800
TZOFFSETTO:-0700
TZNAME:PDT
DTSTART:20240310T100000
END:DAYLIGHT
BEGIN:STANDARD
TZOFFSETFROM:-0700
TZOFFSETTO:-0800
TZNAME:PST
DTSTART:20241103T090000
END:STANDARD
END:VTIMEZONE
BEGIN:VEVENT
DTSTART;TZID=America/Los_Angeles:20240921T183000
DTEND;TZID=America/Los_Angeles:20240921T193000
DTSTAMP:20260420T165914
CREATED:20240922T012726Z
LAST-MODIFIED:20240922T052955Z
UID:26850-1726943400-1726947000@www.ayclogic.com
SUMMARY:6:30 PM – Intro To Java – Darin
DESCRIPTION:What We Did Today:\n\nCompleted the temperature converter project\, implementing the math change\, as well as debugging a couple things.\n\nHomework:\n\nDo the practice final exam sent to your emails! It is worth 10% of your final grade\, and prepare well for your final exam next week!\n\nNotes:\nYou can email me at ddjapri@ayclogic.com if you have any questions!
URL:https://www.ayclogic.com/event/630-pm-intro-to-java-darin-7/
CATEGORIES:Introduction To Java,Java
END:VEVENT
END:VCALENDAR