BEGIN:VCALENDAR
VERSION:2.0
PRODID:-//American Young Coder - ECPv6.10.1.1//NONSGML v1.0//EN
CALSCALE:GREGORIAN
METHOD:PUBLISH
X-WR-CALNAME:American Young Coder
X-ORIGINAL-URL:https://www.ayclogic.com
X-WR-CALDESC:Events for American Young Coder
REFRESH-INTERVAL;VALUE=DURATION:PT1H
X-Robots-Tag:noindex
X-PUBLISHED-TTL:PT1H
BEGIN:VTIMEZONE
TZID:America/Los_Angeles
BEGIN:DAYLIGHT
TZOFFSETFROM:-0800
TZOFFSETTO:-0700
TZNAME:PDT
DTSTART:20240310T100000
END:DAYLIGHT
BEGIN:STANDARD
TZOFFSETFROM:-0700
TZOFFSETTO:-0800
TZNAME:PST
DTSTART:20241103T090000
END:STANDARD
END:VTIMEZONE
BEGIN:VEVENT
DTSTART;TZID=America/Los_Angeles:20241113T180000
DTEND;TZID=America/Los_Angeles:20241113T190000
DTSTAMP:20260421T120633
CREATED:20241114T020004Z
LAST-MODIFIED:20241114T055421Z
UID:27391-1731520800-1731524400@www.ayclogic.com
SUMMARY:6 PM – Intro To Java – Darin
DESCRIPTION:Today We Did:\n\nContinued the SchoolApplication project.\nLearnt about Object Oriented Programming in Java\, reviewing concepts such as classes\, objects\, attributes\, methods\, constructors\nIntroduced concepts such as getters\, setters\, and how to automatically use them in Java.\n\nHomework:\n\nContinue in your SchoolApplication project and do the following:\n\nImplement selections 5 and 7.\n\nIn selection 5\, use a for loop to go over each student and print their info.\n\nExample output:\n\nEnter your selection: 5\n\nLIST OF ALL STUDENTS\nDarin - Age: 12 - Grade: 6\nBob - Age: 13 - Grade: 7\n\nFor selection 7\, list only the students between ages 13 and 19!\nNotes:\nIf you have any questions\, feel free to email me at ddjapri@ayclogic.com
URL:https://www.ayclogic.com/event/6-pm-intro-to-java-darin-3/
CATEGORIES:Introduction To Java,Java
END:VEVENT
END:VCALENDAR