BEGIN:VCALENDAR
VERSION:2.0
PRODID:-//American Young Coder - ECPv6.10.1.1//NONSGML v1.0//EN
CALSCALE:GREGORIAN
METHOD:PUBLISH
X-WR-CALNAME:American Young Coder
X-ORIGINAL-URL:https://www.ayclogic.com
X-WR-CALDESC:Events for American Young Coder
REFRESH-INTERVAL;VALUE=DURATION:PT1H
X-Robots-Tag:noindex
X-PUBLISHED-TTL:PT1H
BEGIN:VTIMEZONE
TZID:America/Los_Angeles
BEGIN:DAYLIGHT
TZOFFSETFROM:-0800
TZOFFSETTO:-0700
TZNAME:PDT
DTSTART:20240310T100000
END:DAYLIGHT
BEGIN:STANDARD
TZOFFSETFROM:-0700
TZOFFSETTO:-0800
TZNAME:PST
DTSTART:20241103T090000
END:STANDARD
END:VTIMEZONE
BEGIN:VEVENT
DTSTART;TZID=America/Los_Angeles:20241120T180000
DTEND;TZID=America/Los_Angeles:20241120T190000
DTSTAMP:20260421T120007
CREATED:20241121T012855Z
LAST-MODIFIED:20241121T030745Z
UID:27458-1732125600-1732129200@www.ayclogic.com
SUMMARY:6 PM – Intro To Java – Darin
DESCRIPTION:Today We Did:\n\nContinued the SchoolApplication project.\nImplemented the listing and finding methods for students.\nExamined various ways to use a for loop on a list\nExamined how the find method works\n\nHomework:\n\nContinue in your SchoolApplication project and do the following:\n\nImplement selections 2\, 4\, and 6.\n\nThis is the same as the students\, but using a teacher class instead.\n\nTry to recreate the listing\, and finding methods from scratch!\nNotes:\nIf you have any questions\, feel free to email me at ddjapri@ayclogic.com
URL:https://www.ayclogic.com/event/6-pm-intro-to-java-darin-4/
CATEGORIES:Introduction To Java,Java
END:VEVENT
END:VCALENDAR