BEGIN:VCALENDAR
VERSION:2.0
PRODID:-//American Young Coder - ECPv6.10.1.1//NONSGML v1.0//EN
CALSCALE:GREGORIAN
METHOD:PUBLISH
X-WR-CALNAME:American Young Coder
X-ORIGINAL-URL:https://www.ayclogic.com
X-WR-CALDESC:Events for American Young Coder
REFRESH-INTERVAL;VALUE=DURATION:PT1H
X-Robots-Tag:noindex
X-PUBLISHED-TTL:PT1H
BEGIN:VTIMEZONE
TZID:America/Los_Angeles
BEGIN:DAYLIGHT
TZOFFSETFROM:-0800
TZOFFSETTO:-0700
TZNAME:PDT
DTSTART:20250309T100000
END:DAYLIGHT
BEGIN:STANDARD
TZOFFSETFROM:-0700
TZOFFSETTO:-0800
TZNAME:PST
DTSTART:20251102T090000
END:STANDARD
END:VTIMEZONE
BEGIN:VEVENT
DTSTART;TZID=America/Los_Angeles:20250122T180000
DTEND;TZID=America/Los_Angeles:20250122T190000
DTSTAMP:20260421T090643
CREATED:20250123T033520Z
LAST-MODIFIED:20250123T033520Z
UID:27956-1737568800-1737572400@www.ayclogic.com
SUMMARY:6 PM – Intro To Java – Darin
DESCRIPTION:Today We Did:\n\nContinued the Monster Inheritance project in Java\, implementing 100% of the features of the game.\nSet up android studio\n\nHomework:\nIn your monster inheritance project: \n\nCreate two new classes: Hydra\, Deer\nInherit from the Monster class\nMake the hydra immune to water and weak to fire\, and make the deer print out a message (as stated in lecture) when kiled\n\nNotes:\nIf you have any questions\, feel free to email me at ddjapri@ayclogic.com
URL:https://www.ayclogic.com/event/6-pm-intro-to-java-darin-10/
CATEGORIES:Introduction To Java,Java
END:VEVENT
END:VCALENDAR