BEGIN:VCALENDAR
VERSION:2.0
PRODID:-//American Young Coder - ECPv6.10.1.1//NONSGML v1.0//EN
CALSCALE:GREGORIAN
METHOD:PUBLISH
X-WR-CALNAME:American Young Coder
X-ORIGINAL-URL:https://www.ayclogic.com
X-WR-CALDESC:Events for American Young Coder
REFRESH-INTERVAL;VALUE=DURATION:PT1H
X-Robots-Tag:noindex
X-PUBLISHED-TTL:PT1H
BEGIN:VTIMEZONE
TZID:America/Los_Angeles
BEGIN:DAYLIGHT
TZOFFSETFROM:-0800
TZOFFSETTO:-0700
TZNAME:PDT
DTSTART:20250309T100000
END:DAYLIGHT
BEGIN:STANDARD
TZOFFSETFROM:-0700
TZOFFSETTO:-0800
TZNAME:PST
DTSTART:20251102T090000
END:STANDARD
END:VTIMEZONE
BEGIN:VEVENT
DTSTART;TZID=America/Los_Angeles:20250219T180000
DTEND;TZID=America/Los_Angeles:20250219T190000
DTSTAMP:20260415T153725
CREATED:20250220T054235Z
LAST-MODIFIED:20250220T054235Z
UID:28181-1739988000-1739991600@www.ayclogic.com
SUMMARY:6 PM – Intro To Java – Darin
DESCRIPTION:Today We Did:\n\nReviewed how spinners work in Android Studio\nDebugged and fixed some minor issues in our converter app\nFinished the Android Studio Temperature Converter project\n\nHomework:\nFinish the practice final test sent to your emails! It will take approximately 2 hours. It’s open notes! \nNotes:\nIf you have any questions\, feel free to email me at ddjapri@ayclogic.com
URL:https://www.ayclogic.com/event/6-pm-intro-to-java-darin-14/
CATEGORIES:Introduction To Java,Java
END:VEVENT
END:VCALENDAR