BEGIN:VCALENDAR
VERSION:2.0
PRODID:-//American Young Coder - ECPv6.10.1.1//NONSGML v1.0//EN
CALSCALE:GREGORIAN
METHOD:PUBLISH
X-WR-CALNAME:American Young Coder
X-ORIGINAL-URL:https://www.ayclogic.com
X-WR-CALDESC:Events for American Young Coder
REFRESH-INTERVAL;VALUE=DURATION:PT1H
X-Robots-Tag:noindex
X-PUBLISHED-TTL:PT1H
BEGIN:VTIMEZONE
TZID:America/Los_Angeles
BEGIN:DAYLIGHT
TZOFFSETFROM:-0800
TZOFFSETTO:-0700
TZNAME:PDT
DTSTART:20220313T100000
END:DAYLIGHT
BEGIN:STANDARD
TZOFFSETFROM:-0700
TZOFFSETTO:-0800
TZNAME:PST
DTSTART:20221106T090000
END:STANDARD
END:VTIMEZONE
BEGIN:VEVENT
DTSTART;TZID=America/Los_Angeles:20221201T173000
DTEND;TZID=America/Los_Angeles:20221201T183000
DTSTAMP:20260425T113222
CREATED:20221202T023503Z
LAST-MODIFIED:20221202T023503Z
UID:16694-1669915800-1669919400@www.ayclogic.com
SUMMARY:5:30 PM - Intro To Python - AlexW / Gamas
DESCRIPTION:Today We Did\n\nWe did Dec1_TurtleBasic.py.\nWe drew a Square shape with a Turtle module.\nWe created draw_square(color) function.\n\nHomework\n\nCreate Dec1_Turtle4ShapesHomework.py\nAnd do exercises according to https://www.ayclogic.com/draw-4-shapes-using-turtle-module/
URL:https://www.ayclogic.com/event/530-pm-intro-to-python-alexw-gamas/
CATEGORIES:Python Class,Python Level 1
END:VEVENT
BEGIN:VEVENT
DTSTART;TZID=America/Los_Angeles:20221202T173000
DTEND;TZID=America/Los_Angeles:20221202T183000
DTSTAMP:20260425T113222
CREATED:20221203T022639Z
LAST-MODIFIED:20221203T022639Z
UID:16842-1670002200-1670005800@www.ayclogic.com
SUMMARY:5:30 PM - Python Game Development - Gamas
DESCRIPTION:Homework\n\nWhen the bug mode change to DIZZY mode\, Stop the chirping sound.\nCreate Landing page with PLAY and CREDIT buttons. Use assets/ballon_title.png for the landing page.\nCreate CREDIT page.
URL:https://www.ayclogic.com/event/530-pm-python-game-development-gamas/
CATEGORIES:Python Class,Python Game Development
END:VEVENT
BEGIN:VEVENT
DTSTART;TZID=America/Los_Angeles:20221202T220000
DTEND;TZID=America/Los_Angeles:20221202T230000
DTSTAMP:20260425T113222
CREATED:20221202T160108Z
LAST-MODIFIED:20221207T031151Z
UID:16710-1670018400-1670022000@www.ayclogic.com
SUMMARY:10 PM - Intro To Python - Private - Gamas
DESCRIPTION:Homework\n\nCreate Dec12_Private_ListHomework.py.\nCopy codes from page 37 to 38.\nCreate a list of monsters: “dragon”\, “phoenix”\, “minotaur”\, “hydra”\n\nusing the list print “DRAGON is a powerful monster”. Get the first element of the list and combine with ” is a powerful monster” String.\nusing the list print “Hydra is a monster with many heads”. Get the last element of the list and combine with ” is a monster with many heads” String.\n\n\nAdd one more element to the list: “Unicorn”. Look at page 37 if you don’t know how to add one more element to the List.\nCreate Dec12_Private_ListForLoopHomework.py\nCopy codes from page 51 and 52 and 72
URL:https://www.ayclogic.com/event/10-pm-intro-to-python-private-gamas-2/
CATEGORIES:Python Class,Python Level 1
END:VEVENT
BEGIN:VEVENT
DTSTART;TZID=America/Los_Angeles:20221203T090000
DTEND;TZID=America/Los_Angeles:20221203T100000
DTSTAMP:20260425T113222
CREATED:20221203T181005Z
LAST-MODIFIED:20221203T181005Z
UID:16860-1670058000-1670061600@www.ayclogic.com
SUMMARY:9AM – Intro to Python – Saagar Mahadev
DESCRIPTION:Today we did:\n\nReviewed for the quiz\n\nHomework\nOnly homework is to prepare for the quiz. Feel free to reach out if you need any additional help or practice problems.
URL:https://www.ayclogic.com/event/9am-intro-to-python-saagar-mahadev-3/
CATEGORIES:Python Class,Python Level 1
END:VEVENT
BEGIN:VEVENT
DTSTART;TZID=America/Los_Angeles:20221203T100000
DTEND;TZID=America/Los_Angeles:20221203T110000
DTSTAMP:20260425T113222
CREATED:20221203T043318Z
LAST-MODIFIED:20221203T043318Z
UID:16850-1670061600-1670065200@www.ayclogic.com
SUMMARY:10 AM - Intro To Python - Indo - Gamas
DESCRIPTION:Today We Did\n\nWe reviewed the 1st quiz result.\nIf you guys don’t receive my quiz feedbacks\, please let me know. Ask your parents to text me.\n\nHomework\n\nCreate a new python file Dec3_ForLoopListHomework2.py\n\nCreate a new variable\, “cities” which is a List of String. Inside the list is the following Strings: Bandung\, Jakarta\, Los Angeles\, New York and Moscow.\nCreate a for loop that will go through each String inside the list and print the city name.\nIf the city name is “Jakarta” print “Jakarta is a big city”. Or if the city is “Moscow” print “Moscow is a big city”.\nIf you do your code properly\, it should print the following\nBandung\nJakarta is a big city.\nLos Angeles\nNew York\nMoscow is a big city.
URL:https://www.ayclogic.com/event/10-am-intro-to-python-indo-gamas-8/
CATEGORIES:Python Class,Python Level 1
END:VEVENT
BEGIN:VEVENT
DTSTART;TZID=America/Los_Angeles:20221203T140000
DTEND;TZID=America/Los_Angeles:20221203T150000
DTSTAMP:20260425T113222
CREATED:20221204T014330Z
LAST-MODIFIED:20221215T201703Z
UID:16876-1670076000-1670079600@www.ayclogic.com
SUMMARY:2 PM – Intro To Python – Sebastian
DESCRIPTION:Today We Did\n\nHow functions work (parameters\, arguments)\nHow to call functions\nIn case you need anything\, feel free to email me at sebastian@ayclogic.com\n\nHomework\n\nName your homework DEC3_functions_hw.py\nHomework: https://www.ayclogic.com/list-inputs-if-and-else-loops-and-function/
URL:https://www.ayclogic.com/event/2-pm-intro-to-python-sebastian-11/
CATEGORIES:Python Class,Python Level 1
END:VEVENT
BEGIN:VEVENT
DTSTART;TZID=America/Los_Angeles:20221203T150000
DTEND;TZID=America/Los_Angeles:20221203T160000
DTSTAMP:20260425T113222
CREATED:20221204T151621Z
LAST-MODIFIED:20221204T151701Z
UID:16878-1670079600-1670083200@www.ayclogic.com
SUMMARY:3 PM – Intro To Python – Sebastian
DESCRIPTION:Today We Did\n\nHow functions work (parameters\, arguments)\nHow to call functions\nIn case you need anything\, feel free to email me at sebastian@ayclogic.com\n\nHomework\n\nName your homework DEC3_functions\nHomework: https://www.ayclogic.com/list-inputs-if-and-else-loops-and-function/
URL:https://www.ayclogic.com/event/3-pm-intro-to-python-sebastian-13/
CATEGORIES:Python Class,Python Level 1
END:VEVENT
BEGIN:VEVENT
DTSTART;TZID=America/Los_Angeles:20221206T171500
DTEND;TZID=America/Los_Angeles:20221206T181500
DTSTAMP:20260425T113222
CREATED:20221207T022201Z
LAST-MODIFIED:20221207T022201Z
UID:16931-1670346900-1670350500@www.ayclogic.com
SUMMARY:5:15PM – Intro To Python - Sebastian
DESCRIPTION:Today We Did\n\nRemember the important 3 steps to debugging:\n\nClick the bottom blue line\nRead the error message\nFix the error and rerun\n\n\nDebugged the code here\nIn case you need anything\, feel free to email me at sebastian@ayclogic.com\n\nHomework\n\nName your homework DEC6_fixing_errors_hw\nHomework: https://www.ayclogic.com/intro-to-python-exercises-for-quiz-2/\nHomework: https://www.ayclogic.com/fix-python-bugs-2/ 
URL:https://www.ayclogic.com/event/515pm-intro-to-python-sebastian-2/
CATEGORIES:Python Class,Python Level 1
END:VEVENT
BEGIN:VEVENT
DTSTART;TZID=America/Los_Angeles:20221206T173000
DTEND;TZID=America/Los_Angeles:20221206T183000
DTSTAMP:20260425T113222
CREATED:20221207T023332Z
LAST-MODIFIED:20221207T023332Z
UID:16933-1670347800-1670351400@www.ayclogic.com
SUMMARY:5:30 PM - Intro To Python - Gamas
DESCRIPTION:Homework\n\nInside Nov29_RobuxShoppingCart.py\n\nCall make_purchase function for HAIR and VIP Server products. This is very similar on how you call make_purchase for HAT product.\nAdd code that will implement “4. Add more robux” so it can do the following\n\n\nWelcome to Robux Bank\, you have 300 robux in the beginning.\n\nWhat do you want to do: \n1. Buy hat 100 Robux\n2. Buy hair 150 Robux\n3. VIP Server 500 Robux\n4. Add more Robux\n5. Exit\nEnter your selection: 1\nYou purchased a Hat. You have 200 robux remaining.\n\nWhat do you want to do: \n1. Buy hat 100 Robux\n2. Buy hair 150 Robux\n3. VIP Server 500 Robux\n4. Add more Robux\n5. Exit\nEnter your selection: 2\nYou purchased a Hair. You have 50 robux remaining.\n\nWhat do you want to do: \n1. Buy hat 100 Robux\n2. Buy hair 150 Robux\n3. VIP Server 500 Robux\n4. Add more Robux\n5. Exit\nEnter your selection: 4\nEnter your Credit Card number: ABCD1234\nThank you for purchasing 200 Robux. You now have 250 robux remaining.\n\nWhat do you want to do: \n1. Buy hat 100 Robux\n2. Buy hair 150 Robux\n3. VIP Server 500 Robux\n4. Add more Robux\n5. Exit\nEnter your selection: 4\nEnter your Credit Card number: asdfasdfasdfasdf\nYou have entered an invalid credit card number
URL:https://www.ayclogic.com/event/530-pm-intro-to-python-gamas-7/
CATEGORIES:Python Class,Python Level 1
END:VEVENT
BEGIN:VEVENT
DTSTART;TZID=America/Los_Angeles:20221207T080000
DTEND;TZID=America/Los_Angeles:20221207T170000
DTSTAMP:20260425T113222
CREATED:20221208T042828Z
LAST-MODIFIED:20221208T042828Z
UID:16956-1670400000-1670432400@www.ayclogic.com
SUMMARY:6 PM - Python OOP - Gamas
DESCRIPTION:Homework\n\nAll of class files are uploaded to google drive which you can access here: https://drive.google.com/drive/folders/1yj3auNLld74NNzu98nptj8Y2BN3JF0z0\nHenry\, please do your homework 2 weeks ago from page 167.\nFor everyone\, do the following homework\n\nIn Dec7_GroceryShoppingCartV4.py. Figure out how to run the program that will call the application_loop() method. If you do it properly\, you should be able to run the Grocery Shopping Cart application as before. If you are confused how to do this\, look at page 167 homework (Nov16_ClassHomeworkP167.py) and see how you call open_restaurant() or describe_restaurant() methods. This is the same mechanism on how you call the application_loop() method from GroceryShoppingCartSystem class.\nCreate a new file school_system.py\n\nCreate a program that will continuously print the following menu until user enter exit then stop the program.\n\nPlease select one of the following\n1. Add new student\n2. List all students\n3. Find student\n4. Add new teacher\n5. List all teachers\n6. Find teacher using Dictionary\n7. Find student using Dictionary\nEnter your selection. Enter "exit" to quit: 12123\n\nPlease select one of the following\n1. Add new student\n2. List all students\n3. Find student\n4. Add new teacher\n5. List all teachers\n6. Find teacher using Dictionary\n7. Find student using Dictionary\nEnter your selection. Enter "exit" to quit: adf\n\nPlease select one of the following\n1. Add new student\n2. List all students\n3. Find student\n4. Add new teacher\n5. List all teachers\n6. Find teacher using Dictionary\n7. Find student using Dictionary\nEnter your selection. Enter "exit" to quit: exit
URL:https://www.ayclogic.com/event/6-pm-python-oop-gamas-9/
CATEGORIES:OOP Python,Python Class
END:VEVENT
BEGIN:VEVENT
DTSTART;TZID=America/Los_Angeles:20221207T180000
DTEND;TZID=America/Los_Angeles:20221207T190000
DTSTAMP:20260425T113222
CREATED:20221208T030242Z
LAST-MODIFIED:20221215T204223Z
UID:16951-1670436000-1670439600@www.ayclogic.com
SUMMARY:6 PM – Intro To Python - Sebastian
DESCRIPTION:Today We Did\n\nCreating a list \nList functions (.append()\, .remove()\, .pop()\, del\, .insert())\nIn case you need anything\, feel free to email me at sebastian@ayclogic.com\n\nHomework\n\nName your homework DEC7_input1\, and DEC7_input2 (make separate files for homework 1 and homework 2)\nHomework 1: Page 117\, try 7-1\, 7-2 by yourself\nHomework 2: https://www.ayclogic.com/tell-me-your-age/
URL:https://www.ayclogic.com/event/6-pm-intro-to-python-sebastian-5/
CATEGORIES:Python Class,Python Level 1
END:VEVENT
BEGIN:VEVENT
DTSTART;TZID=America/Los_Angeles:20221208T090000
DTEND;TZID=America/Los_Angeles:20221208T100000
DTSTAMP:20260425T113222
CREATED:20221209T034321Z
LAST-MODIFIED:20221209T034321Z
UID:16963-1670490000-1670493600@www.ayclogic.com
SUMMARY:9AM – Intro to Python – Saagar Mahadev
DESCRIPTION:Today we did:\n\nQuiz\n\nHomework\nNo homework other than relaxing.
URL:https://www.ayclogic.com/event/9am-intro-to-python-saagar-mahadev-4/
CATEGORIES:Python Class,Python Level 1
END:VEVENT
BEGIN:VEVENT
DTSTART;TZID=America/Los_Angeles:20221209T163000
DTEND;TZID=America/Los_Angeles:20221209T173000
DTSTAMP:20260425T113222
CREATED:20221210T010156Z
LAST-MODIFIED:20221210T010156Z
UID:16987-1670603400-1670607000@www.ayclogic.com
SUMMARY:4:30 PM - Intro To Python - Gamas
DESCRIPTION:Homework\n\nCreate Dec9_IfElseHomework1.py\nCopy codes from page 79 to 81.
URL:https://www.ayclogic.com/event/430-pm-intro-to-python-gamas-3/
CATEGORIES:Python Class,Python Level 1
END:VEVENT
BEGIN:VEVENT
DTSTART;TZID=America/Los_Angeles:20221209T220000
DTEND;TZID=America/Los_Angeles:20221209T230000
DTSTAMP:20260425T113222
CREATED:20221209T162001Z
LAST-MODIFIED:20221209T162017Z
UID:16977-1670623200-1670626800@www.ayclogic.com
SUMMARY:10 PM - Intro To Python - Private
DESCRIPTION:Homework\n\nCreate Dec9_ForLoopListHomework.py\nCopy code from page 50 to 52.\nDo number 5\, 6 and 7 only from this exercise: https://www.ayclogic.com/intro-to-python-exercises/\nCreate Dec9_ForLoopRangeHomework.py\nCopy code from page 57.
URL:https://www.ayclogic.com/event/10-pm-intro-to-python-private/
CATEGORIES:Python Class,Python Level 1
END:VEVENT
BEGIN:VEVENT
DTSTART;TZID=America/Los_Angeles:20221210T140000
DTEND;TZID=America/Los_Angeles:20221210T150000
DTSTAMP:20260425T113222
CREATED:20221211T000810Z
LAST-MODIFIED:20221211T000810Z
UID:17003-1670680800-1670684400@www.ayclogic.com
SUMMARY:2 PM – Intro To Python – Sebastian
DESCRIPTION:Today We Did\n\nReviewed previous quiz and explained answers\nIn case you need anything\, feel free to email me at sebastian@ayclogic.com\n\nHomework\n\nName your homework DEC10_functions_hw\nHomework: From the book\, try 130\, 131\, and 132 by yourself
URL:https://www.ayclogic.com/event/2-pm-intro-to-python-sebastian-12/
CATEGORIES:Python Class,Python Level 1
END:VEVENT
BEGIN:VEVENT
DTSTART;TZID=America/Los_Angeles:20221210T150000
DTEND;TZID=America/Los_Angeles:20221210T160000
DTSTAMP:20260425T113222
CREATED:20221211T000903Z
LAST-MODIFIED:20221211T000903Z
UID:17005-1670684400-1670688000@www.ayclogic.com
SUMMARY:3 PM – Intro To Python – Sebastian
DESCRIPTION:Today We Did\n\nReviewed previous quiz and explained answers\nIn case you need anything\, feel free to email me at sebastian@ayclogic.com\n\nHomework\n\nName your homework DEC10_functions_hw\nHomework: From the book\, try 130\, 131\, and 132 by yourself
URL:https://www.ayclogic.com/event/3-pm-intro-to-python-sebastian-14/
CATEGORIES:Python Class,Python Level 1
END:VEVENT
BEGIN:VEVENT
DTSTART;TZID=America/Los_Angeles:20221213T173000
DTEND;TZID=America/Los_Angeles:20221213T183000
DTSTAMP:20260425T113222
CREATED:20221214T023440Z
LAST-MODIFIED:20221220T182200Z
UID:17047-1670952600-1670956200@www.ayclogic.com
SUMMARY:5:30 PM - Intro To Python - Gamas
DESCRIPTION:Next week on December 20\, it will be 2 hours final test. It is going to be open book and you can use Thonny to test your codes \nStudy the following topics \n\nNov8_ShoppingCart.py\nNov29_RobuxShoppingCart.py\nYour turtle projects or Oct18_DrawLetterAndPolygon.py
URL:https://www.ayclogic.com/event/530-pm-intro-to-python-gamas-1213/
CATEGORIES:Python Class,Python Level 1
END:VEVENT
BEGIN:VEVENT
DTSTART;TZID=America/Los_Angeles:20221214T180000
DTEND;TZID=America/Los_Angeles:20221214T190000
DTSTAMP:20260425T113222
CREATED:20221215T040432Z
LAST-MODIFIED:20221215T040432Z
UID:17081-1671040800-1671044400@www.ayclogic.com
SUMMARY:6 PM - Python OOP - Gamas
DESCRIPTION:Homework\n\n\n\nInside Dec7_GroceryShoppingCartV4.py\, create a new method that would do list all frozen items when user checkout. Make sure to choose a good meaningful name for this method. Call this method from inside application_loop(). This is very similar to what we have done in the class today by introducing make_purchase() and list_all_purchased_items().
URL:https://www.ayclogic.com/event/6-pm-python-oop-gamas-10/
CATEGORIES:OOP Python,Python Class
END:VEVENT
BEGIN:VEVENT
DTSTART;TZID=America/Los_Angeles:20221215T173000
DTEND;TZID=America/Los_Angeles:20221215T183000
DTSTAMP:20260425T113222
CREATED:20221216T060951Z
LAST-MODIFIED:20221216T060951Z
UID:17118-1671125400-1671129000@www.ayclogic.com
SUMMARY:5:30 PM - Intro To Python - Gamas
DESCRIPTION:Today We Did\n\nWe continued with Turtle topic.\nWe introduced a function draw_rectangle and made the function to have 5 parameters: x\, y\, width\, height\, color. This way the functions can be reused to draw rectangle in different locations\, width and height and color.\n\nHomework\nUsing combinations of rectangles draw below robot. Make sure to call draw_rectangle function for each rectangle that you want to draw. I will give you some of the x and y coordinates below to help you get started. But you have to figure out the rest of them your self. \n \n 
URL:https://www.ayclogic.com/event/530-pm-intro-to-python-gamas-8/
CATEGORIES:Python Class,Python Level 1
END:VEVENT
BEGIN:VEVENT
DTSTART;TZID=America/Los_Angeles:20221216T100000
DTEND;TZID=America/Los_Angeles:20221216T110000
DTSTAMP:20260425T113222
CREATED:20221216T042811Z
LAST-MODIFIED:20221216T042811Z
UID:17109-1671184800-1671188400@www.ayclogic.com
SUMMARY:10 AM - Intro To Python - Private - Gamas
DESCRIPTION:Homework\n\nCreate Dec15_Private_ForLoopInRangeHomework2.py\ntranslate this Scratch code into Python. Use for loop in range.\nCreate Dec15_WhileLoopHomework.py\nCopy codes 118 to 121.\n\n  \n 
URL:https://www.ayclogic.com/event/10-am-intro-to-python-private-gamas/
CATEGORIES:Python Class,Python Level 1
END:VEVENT
BEGIN:VEVENT
DTSTART;TZID=America/Los_Angeles:20221216T163000
DTEND;TZID=America/Los_Angeles:20221216T173000
DTSTAMP:20260425T113222
CREATED:20221217T040855Z
LAST-MODIFIED:20221217T041518Z
UID:17130-1671208200-1671211800@www.ayclogic.com
SUMMARY:4:30 PM - Intro To Python - Gamas
DESCRIPTION:Homework\n\nThese homeworks are due on 12/19 – Monday at 5 PM.\nCreate a new python file Dec16_HowOldAreYouHomework.py\nDo exercises number 1 only from https://www.ayclogic.com/tell-me-your-age/ . This is an input from shell and if elif else homeworks\, so make sure you review today’s lesson if you are confused.\nCreate a new python file Dec16_ListHomework.py\nCopy codes from page 34 to 35.
URL:https://www.ayclogic.com/event/430-pm-intro-to-python-gamas-4/
CATEGORIES:Python Level 1
END:VEVENT
BEGIN:VEVENT
DTSTART;TZID=America/Los_Angeles:20221216T180000
DTEND;TZID=America/Los_Angeles:20221216T190000
DTSTAMP:20260425T113222
CREATED:20221217T042141Z
LAST-MODIFIED:20221217T042141Z
UID:17140-1671213600-1671217200@www.ayclogic.com
SUMMARY:6 PM - Python Game Development - Gamas
DESCRIPTION:Today We Did\n\nWe learned how to kill bug chirping sound when bug goes off the screen.\nWe added count down in the screen.\nWe learned how to kill bug chirping sound when the countdown goes to 0.\n\nHomework\n\nNo homework for next week.
URL:https://www.ayclogic.com/event/6-pm-python-game-development-gamas/
CATEGORIES:Python Class,Python Game Development
END:VEVENT
BEGIN:VEVENT
DTSTART;TZID=America/Los_Angeles:20221217T090000
DTEND;TZID=America/Los_Angeles:20221217T100000
DTSTAMP:20260425T113222
CREATED:20221217T180643Z
LAST-MODIFIED:20221217T220731Z
UID:17148-1671267600-1671271200@www.ayclogic.com
SUMMARY:9AM – Intro to Python – Saagar Mahadev
DESCRIPTION:Today we did:\n\nReviewed the Quiz\nStarted graphical interfaces with Turtle like setting background color\, drawing shapes\, etc.\n\nAnnouncements\nNo class until January 7th. Holidays for next 2 weeks. \nHomework\nIn a file called TurtleHomework.py\, do the practice problems from https://www.ayclogic.com/event/6-pm-intro-to-python-46/.
URL:https://www.ayclogic.com/event/9am-intro-to-python-saagar-mahadev-5/
CATEGORIES:Python Class,Python Level 1
END:VEVENT
BEGIN:VEVENT
DTSTART;TZID=America/Los_Angeles:20221217T100000
DTEND;TZID=America/Los_Angeles:20221217T110000
DTSTAMP:20260425T113222
CREATED:20221217T041835Z
LAST-MODIFIED:20221217T041856Z
UID:17137-1671271200-1671274800@www.ayclogic.com
SUMMARY:10 AM - Intro To Python - Indo - Gamas
DESCRIPTION:Today We Did\n\nWe started learning about functions without return value.\nWe learned that function can reduce code duplication.\n\nHomework\n\nNo homework and no class until January 7\, 2023.\nMerry Christmas 2022 and Happy New Year 2023.
URL:https://www.ayclogic.com/event/10-am-intro-to-python-indo-gamas-9/
CATEGORIES:Python Class,Python Level 1
END:VEVENT
BEGIN:VEVENT
DTSTART;TZID=America/Los_Angeles:20221217T140000
DTEND;TZID=America/Los_Angeles:20221217T150000
DTSTAMP:20260425T113222
CREATED:20221218T001215Z
LAST-MODIFIED:20221218T001215Z
UID:17163-1671285600-1671289200@www.ayclogic.com
SUMMARY:2 PM – Intro To Python – Sebastian
DESCRIPTION:Remember\, no class December 24th – December 31st! \nToday We Did\n\nReviewed how functions simplify repetitive operations (can put all the print statements inside a function and only call it once!)\nFunctions can have as many parameters as you want (sometimes none!)\nFunctions can have a return value\, or might not\nIn case you need anything\, feel free to email me at sebastian@ayclogic.com\n\nHomework\n\nName your homework DEC17_functions_hw\, please submit by next Friday.\nHomework: Please read pages 141 & 142\, then try 8-6 by yourself. Remember your formatted strings\, while loops\, and where parameters go.
URL:https://www.ayclogic.com/event/2-pm-intro-to-python-sebastian-13/
CATEGORIES:Python Class,Python Level 1
END:VEVENT
BEGIN:VEVENT
DTSTART;TZID=America/Los_Angeles:20221217T150000
DTEND;TZID=America/Los_Angeles:20221217T160000
DTSTAMP:20260425T113222
CREATED:20221218T001243Z
LAST-MODIFIED:20221218T001243Z
UID:17164-1671289200-1671292800@www.ayclogic.com
SUMMARY:3 PM – Intro To Python – Sebastian
DESCRIPTION:Remember\, no class December 24th – December 31st! \nToday We Did\n\nReviewed how functions simplify repetitive operations (can put all the print statements inside a function and only call it once!)\nFunctions can have as many parameters as you want (sometimes none!)\nFunctions can have a return value\, or might not\nIn case you need anything\, feel free to email me at sebastian@ayclogic.com\n\nHomework\n\nName your homework DEC17_functions_hw\, please submit by next Friday.\nHomework: Please read pages 141 & 142\, then try 8-6 by yourself. Remember your formatted strings\, while loops\, and where parameters go.
URL:https://www.ayclogic.com/event/3-pm-intro-to-python-sebastian-15/
CATEGORIES:Python Class,Python Level 1
END:VEVENT
BEGIN:VEVENT
DTSTART;TZID=America/Los_Angeles:20221220T171500
DTEND;TZID=America/Los_Angeles:20221220T181500
DTSTAMP:20260425T113222
CREATED:20221221T022306Z
LAST-MODIFIED:20221221T022321Z
UID:17227-1671556500-1671560100@www.ayclogic.com
SUMMARY:5:15 PM – Intro To Python - Sebastian
DESCRIPTION:Today We Did \n\nGeneral review on several past topics\nIn case you need anything\, feel free to email me at sebastian@ayclogic.com\n\nHomework\n\nName your homework DEC20_function_review_HW\, please submit by next Monday.\nTo get more practice with functions\, I assigned previous function homework. Try to remember all we covered in class about functions.\nHomework: 4\, 5\, 6\, and 7 from https://www.ayclogic.com/list-inputs-if-and-else-loops-and-function/
URL:https://www.ayclogic.com/event/515-pm-intro-to-python-sebastian/
CATEGORIES:Python Class,Python Level 1
END:VEVENT
BEGIN:VEVENT
DTSTART;TZID=America/Los_Angeles:20221221T180000
DTEND;TZID=America/Los_Angeles:20221221T190000
DTSTAMP:20260425T113222
CREATED:20221222T030231Z
LAST-MODIFIED:20221222T030258Z
UID:17257-1671645600-1671649200@www.ayclogic.com
SUMMARY:6 PM – Intro To Python - Sebastian
DESCRIPTION:Today We Did\n\nLearned while loops continue to loop while their condition is True\nUsed input() inside of while loops as a condition\nLearned how to make a while loop act the same as a for loop\nIn case you need anything\, feel free to email me at sebastian@ayclogic.com\n\nHomework\n\nName your homework DEC21_while_loop_hw\, please submit by next Tuesday.\nHomework: Pages 118 and 121
URL:https://www.ayclogic.com/event/6-pm-intro-to-python-sebastian-6/
CATEGORIES:Python Class,Python Level 1
END:VEVENT
BEGIN:VEVENT
DTSTART;TZID=America/Los_Angeles:20221221T180000
DTEND;TZID=America/Los_Angeles:20221221T190000
DTSTAMP:20260425T113222
CREATED:20221223T024343Z
LAST-MODIFIED:20221223T024343Z
UID:17300-1671645600-1671649200@www.ayclogic.com
SUMMARY:6 PM - Python OOP - Gamas
DESCRIPTION:Homework\n\nContinue on your SchoolSystem program\nWhen user enter “exit” stop the loop.
URL:https://www.ayclogic.com/event/6-pm-python-oop-gamas-11/
CATEGORIES:OOP Python
END:VEVENT
BEGIN:VEVENT
DTSTART;TZID=America/Los_Angeles:20221222T190000
DTEND;TZID=America/Los_Angeles:20221222T200000
DTSTAMP:20260425T113222
CREATED:20230106T003626Z
LAST-MODIFIED:20230106T003626Z
UID:17382-1671735600-1671739200@www.ayclogic.com
SUMMARY:7 PM - Python OOP - Latisha
DESCRIPTION:Today We Did\n\nWe covered the ElectricCar inheritance concepts and features.\n\nWe learned using inheritance\, we can eliminate code duplication.\nThe ElectricCar class inherits all attributes and methods of the Car class.\nThe ElectricCar class can override the Car’s class method.\n\n\n\nHomework\n\nNo class next week because of Christmas and New Year. The class will resume on 01/05/2023.\nNo homework.\nMerry Christmas and Happy New Year everyone.
URL:https://www.ayclogic.com/event/7-pm-python-oop-latisha/
CATEGORIES:OOP Python,Python Class
END:VEVENT
END:VCALENDAR