BEGIN:VCALENDAR
VERSION:2.0
PRODID:-//American Young Coder - ECPv6.10.1.1//NONSGML v1.0//EN
CALSCALE:GREGORIAN
METHOD:PUBLISH
X-WR-CALNAME:American Young Coder
X-ORIGINAL-URL:https://www.ayclogic.com
X-WR-CALDESC:Events for American Young Coder
REFRESH-INTERVAL;VALUE=DURATION:PT1H
X-Robots-Tag:noindex
X-PUBLISHED-TTL:PT1H
BEGIN:VTIMEZONE
TZID:America/Los_Angeles
BEGIN:DAYLIGHT
TZOFFSETFROM:-0800
TZOFFSETTO:-0700
TZNAME:PDT
DTSTART:20230312T100000
END:DAYLIGHT
BEGIN:STANDARD
TZOFFSETFROM:-0700
TZOFFSETTO:-0800
TZNAME:PST
DTSTART:20231105T090000
END:STANDARD
END:VTIMEZONE
BEGIN:VEVENT
DTSTART;TZID=America/Los_Angeles:20230502T170000
DTEND;TZID=America/Los_Angeles:20230502T180000
DTSTAMP:20260425T112749
CREATED:20230503T011434Z
LAST-MODIFIED:20230510T012551Z
UID:19485-1683046800-1683050400@www.ayclogic.com
SUMMARY:5:00 PM – Python Object Oriented Programming – Sebastian
DESCRIPTION:Today We Did\n\nFinished Grocery System class\nBegan School System class\nIn case you need anything\, feel free to email me at sebastian@ayclogic.com\n\nHomework\n\nName your homework MAY2_school_system_hw\, please submit by next Monday.\nHomework: Add the corresponding methods and classes for teachers.a) Create class called “Teacher” with attributes and parameters called name\, age\, and subject_of_expertise\nb) Inside GrocerySystem class\, create method called add_new_teacher which takes no values. It will take user input for name\, age\, and subject. Then\, create a Teacher object with those inputs and add that object to the self.teachers list.
URL:https://www.ayclogic.com/event/630-pm-python-object-oriented-programming-sebastian-17/
CATEGORIES:Python Class,Python Level 1
END:VEVENT
BEGIN:VEVENT
DTSTART;TZID=America/Los_Angeles:20230502T183000
DTEND;TZID=America/Los_Angeles:20230502T193000
DTSTAMP:20260425T112749
CREATED:20230503T023119Z
LAST-MODIFIED:20230503T023119Z
UID:19492-1683052200-1683055800@www.ayclogic.com
SUMMARY:6:30 PM – Python Object Oriented Programming – Sebastian
DESCRIPTION:Today We Did\n\nContinued Monster inheritance program with Monster System\nReviewed vocabulary in object oriented programming with short quiz on words\nIn case you need anything\, feel free to email me at sebastian@ayclogic.com\n\nHomework\n\nName your homework MAY2_monster_system_hw\, please submit by next Monday.\nHomework: Implement the display_all_strong_monster method\, which will be the same as your display_all_monster method but only print the monster if their health is above 50
URL:https://www.ayclogic.com/event/630-pm-python-object-oriented-programming-sebastian-18/
CATEGORIES:OOP Python,Python Class
END:VEVENT
BEGIN:VEVENT
DTSTART;TZID=America/Los_Angeles:20230503T183000
DTEND;TZID=America/Los_Angeles:20230503T183000
DTSTAMP:20260425T112749
CREATED:20230504T024101Z
LAST-MODIFIED:20230504T024101Z
UID:19527-1683138600-1683138600@www.ayclogic.com
SUMMARY:6:30 PM - Intro to Python - Juan
DESCRIPTION:Today We Did\n\nReviewed inserting and removing from a list\nReviewed looping through a list\nStarted learning about for loop in range()\nContact me at juanfcastro03@gmail.com for any questions\n\nHomework\n\nAnimal List and For Loop Exercises \nPg. 56\, Try It Yourself
URL:https://www.ayclogic.com/event/630-pm-intro-to-python-juan-2/
CATEGORIES:Python Class,Python Level 1
END:VEVENT
BEGIN:VEVENT
DTSTART;TZID=America/Los_Angeles:20230503T183000
DTEND;TZID=America/Los_Angeles:20230503T193000
DTSTAMP:20260425T112749
CREATED:20230504T152540Z
LAST-MODIFIED:20230504T152540Z
UID:19545-1683138600-1683142200@www.ayclogic.com
SUMMARY:6:30 PM – Intro To Python – Sebastian
DESCRIPTION:Today We Did\n\nBegan learning about turtle complex shapes as we drew faces\nIn case you need anything\, feel free to email me at sebastian@ayclogic.com\n\nHomework\n\nName your homework MAY4_new_rectangle_hw\, please submit by next Tuesday.\nHomework: Try making a rectangle using the .forward() and .right() functions we learned about in class.
URL:https://www.ayclogic.com/event/630-pm-intro-to-python-sebastian-17/
CATEGORIES:Python Class,Python Level 1
END:VEVENT
BEGIN:VEVENT
DTSTART;TZID=America/Los_Angeles:20230504T180000
DTEND;TZID=America/Los_Angeles:20230504T190000
DTSTAMP:20260425T112749
CREATED:20230505T020435Z
LAST-MODIFIED:20230505T020435Z
UID:19561-1683223200-1683226800@www.ayclogic.com
SUMMARY:6 PM - Intro To Python - Gamas
DESCRIPTION:Homework\n\nOpen your Thonny and create a new file May4_StringHomeworks.py\nCopy codes from the textbook from page 20 to 23. If you do not have the book yet\, just look at this PDF file – IntroToPythonP20toP23
URL:https://www.ayclogic.com/event/6-pm-intro-to-python-gamas-23/
CATEGORIES:Python Class,Python Level 1
END:VEVENT
BEGIN:VEVENT
DTSTART;TZID=America/Los_Angeles:20230506T090000
DTEND;TZID=America/Los_Angeles:20230506T100000
DTSTAMP:20260425T112749
CREATED:20230506T031017Z
LAST-MODIFIED:20230506T031017Z
UID:19604-1683363600-1683367200@www.ayclogic.com
SUMMARY:9 AM - Indo - Intro To Python - Gamas
DESCRIPTION:Today We Did\n\nWe continued on April22_DrawFace\,py\nWe completed the draw_face(x\,y) function.\n\nHomework\n\nCreate a new python file May6_DrawFace2.py\nCopy the rect and draw_circle functions from April22_DrawFace.py into this new file.\nCreate a new function draw_face2(x\,y) and everytime you call this function\, it will draw a face like below.\n\nCall this function 5 times to draw 5 faces in 5 different locations.
URL:https://www.ayclogic.com/event/9-am-indo-intro-to-python-gamas-5/
CATEGORIES:Python Class,Python Level 1
END:VEVENT
BEGIN:VEVENT
DTSTART;TZID=America/Los_Angeles:20230506T140000
DTEND;TZID=America/Los_Angeles:20230506T150000
DTSTAMP:20260425T112749
CREATED:20230506T215529Z
LAST-MODIFIED:20230506T215529Z
UID:19617-1683381600-1683385200@www.ayclogic.com
SUMMARY:2 PM – Intro To Python – Sebastian
DESCRIPTION:Today We Did\n\nFinished Robux Balance program\nIn case you need anything\, feel free to email me at sebastian@ayclogic.com\n\nHomework\n\nName your homework MAY6_project_edits_hw\, please submit by next Monday.\nHomework: I will be sending out private emails to all of you with specific corrections on what deductions we got on our project and our grades\, but you can get all the points back if you redo it correctly so please spend your time fixing those corrections.
URL:https://www.ayclogic.com/event/2-pm-intro-to-python-sebastian-31/
CATEGORIES:Python Class,Python Level 1
END:VEVENT
BEGIN:VEVENT
DTSTART;TZID=America/Los_Angeles:20230506T150000
DTEND;TZID=America/Los_Angeles:20230506T160000
DTSTAMP:20260425T112749
CREATED:20230506T230236Z
LAST-MODIFIED:20230506T230236Z
UID:19619-1683385200-1683388800@www.ayclogic.com
SUMMARY:3 PM – Intro To Python – Sebastian
DESCRIPTION:Today We Did\n\nFinished grocery system\nBegan robux shopping cart\nIn case you need anything\, feel free to email me at sebastian@ayclogic.com\n\nHomework\n\nName your homework JAN17_dictionary_hw\, please submit by next Friday.\nHomework: Continue where we left off in the Robux shopping program and try to create a while loop\, and retrieve user input the same way we did for our grocery system program. If you want to try and finish more of the program\, see how much you can finish!\nClass code in case you missed it:\n\nmenu = “””What do you want to do:\n1. Buy hat 100 Robux\n2. Buy hair 150 Robux\n3. VIP Server 500 Robux\n4. Add more Robux\n5. Exit\nEnter your selection: “”” \nshopping_cart = []\nrobux = 300
URL:https://www.ayclogic.com/event/3-pm-intro-to-python-sebastian-29/
CATEGORIES:Python Class,Python Level 1
END:VEVENT
BEGIN:VEVENT
DTSTART;TZID=America/Los_Angeles:20230506T180000
DTEND;TZID=America/Los_Angeles:20230506T190000
DTSTAMP:20260425T112749
CREATED:20230507T021508Z
LAST-MODIFIED:20230507T021508Z
UID:19628-1683396000-1683399600@www.ayclogic.com
SUMMARY:6:00 PM - Intro to Python - Juan
DESCRIPTION:Today We Did\n\nStarted learning about functions\, defining a function\, parameters\, and return values\n\nHomework\n\nNumber 4 – 6 from https://www.ayclogic.com/list-inputs-if-and-else-loops-and-function/ \nPg. 130-133
URL:https://www.ayclogic.com/event/600-pm-intro-to-python-juan-12/
CATEGORIES:Python Class,Python Level 1
END:VEVENT
BEGIN:VEVENT
DTSTART;TZID=America/Los_Angeles:20230509T170000
DTEND;TZID=America/Los_Angeles:20230509T180000
DTSTAMP:20260425T112749
CREATED:20230510T011654Z
LAST-MODIFIED:20230510T011654Z
UID:19649-1683651600-1683655200@www.ayclogic.com
SUMMARY:5:00 PM – Python Object Oriented Programming – Sebastian
DESCRIPTION:Today We Did\n\nCreated “list_all_students” and “list_all_teachers” methods which loop through our attributes self.students and self.teachers which are lists\, and print out information about the objects being stored in those lists.\nCreated application_loop() method which will handle the main functionality of our program.\nIn case you need anything\, feel free to email me at sebastian@ayclogic.com\n\nHomework\n\nName your homework MAY9_school_system_hw\, please submit by next Monday.\nHomework: Please implement the following methods:\na) create method: list_all_teachers() which will be exactly like the list_all_students() method\, but list the teachers in a similar format. \nb) create methods: list_all_students_using_dict() and list_all_teachers_using_dict() which will be exactly like the list_all_students() method\, but should loop over our attributes self.student_dictionary and self.teacher_dictionary. Remember you can use the .keys()\, .values()\, and .items() methods for dictionaries now. Which one should you use in order to get the correct data to loop over? (hint: do we want the dictionary’s keys or values?)
URL:https://www.ayclogic.com/event/500-pm-python-object-oriented-programming-sebastian-4/
CATEGORIES:OOP Python,Python Class
END:VEVENT
BEGIN:VEVENT
DTSTART;TZID=America/Los_Angeles:20230509T183000
DTEND;TZID=America/Los_Angeles:20230509T193000
DTSTAMP:20260425T112749
CREATED:20230510T023922Z
LAST-MODIFIED:20230510T023922Z
UID:19654-1683657000-1683660600@www.ayclogic.com
SUMMARY:6:30 PM – Python Object Oriented Programming – Sebastian
DESCRIPTION:Today We Did\n\nWe implemented the `display_all_strong_monsters` method to show all monsters with health above 50.\nWe added functionality in `play_adventure_game` to handle invalid monster selections and allow the user to select a strong monster.\nWe developed the `magic_attack` and `sword_attack` methods\, enabling our player to attack monsters\, and the monsters to counterattack.\nIn case you need anything\, feel free to email me at sebastian@ayclogic.com\n\nHomework\n\nName your homework MAY09_dictionary_hw\, please submit by next Monday.\nHomework: Implement the `add_monster` method in the MonsterSystem class.\nThe `add_monster` method should allow the user to add a new monster to the game. You’ll need to prompt the user for the monster’s name\, health\, and max attack. Make sure to add this new monster to the `monster_dictionary`. Ensure the user cannot add a monster with the same name as an existing monster.
URL:https://www.ayclogic.com/event/630-pm-python-object-oriented-programming-sebastian-19/
CATEGORIES:Python Class,Python Level 1
END:VEVENT
BEGIN:VEVENT
DTSTART;TZID=America/Los_Angeles:20230510T183000
DTEND;TZID=America/Los_Angeles:20230510T193000
DTSTAMP:20260425T112749
CREATED:20230511T023622Z
LAST-MODIFIED:20230518T013648Z
UID:19675-1683743400-1683747000@www.ayclogic.com
SUMMARY:6:30 PM – Intro To Python – Sebastian
DESCRIPTION:Today We Did\n\nFinished drawing letters and faces\, reviewed project proposal\nIn case you need anything\, feel free to email me at sebastian@ayclogic.com\n\nHomework\n\nName your homework MAY10_project_proposal\, please submit by next Tuesday.\nHomework: On a piece of paper\, using any drawing tools you want (markers\, pens\, pencils\, anything is fine)\, draw your project proposal which MUST fit these requirements:\nhttps://www.ayclogic.com/intro-to-python-final-project-criteria/\nIf you want to see examples of previous projects\, you can see them here:\nhttps://www.ayclogic.com/python-digital-illustrations/\n\nFinal project will be due on June 14th\, if you turn it in 1 week ahead (June 7th) you can get 10% extra credit. This means if everything is correct\, you would have 110% for the project grade!
URL:https://www.ayclogic.com/event/630-pm-intro-to-python-sebastian-18/
CATEGORIES:Python Class,Python Level 1
END:VEVENT
BEGIN:VEVENT
DTSTART;TZID=America/Los_Angeles:20230510T183000
DTEND;TZID=America/Los_Angeles:20230510T193000
DTSTAMP:20260425T112749
CREATED:20230513T210646Z
LAST-MODIFIED:20230513T210646Z
UID:19721-1683743400-1683747000@www.ayclogic.com
SUMMARY:6:30 PM - Intro to Python - Juan
DESCRIPTION:Today We Did\n\nReviewed about using a for loop with lists.\nFinishing using a for loop in range.\nStarted learning about while loops.\nContact me at juanfcastro03@gmail.com for any questions\n\nHomework\n\nPage. 118 – 121\nPage 123 Try It Yourself 7-4\, 7-5
URL:https://www.ayclogic.com/event/630-pm-intro-to-python-juan-3/
CATEGORIES:Python Class,Python Level 1
END:VEVENT
BEGIN:VEVENT
DTSTART;TZID=America/Los_Angeles:20230511T180000
DTEND;TZID=America/Los_Angeles:20230511T190000
DTSTAMP:20260425T112749
CREATED:20230512T021016Z
LAST-MODIFIED:20230519T180150Z
UID:19686-1683828000-1683831600@www.ayclogic.com
SUMMARY:6 PM - Intro To Python - Gamas
DESCRIPTION:Today We Did\n\nWe went over String homework from page 20 to 21.\n\nHomework\n\nHomework is due on WED night and you have to upload to your assigned google drive. Jayden\, text me your gmail. Kade text me your gmail.\nCreate a new file May11_StringHomework2.py\nAnswer question 2-3\, 2-4\, 2-5\, 2-6 and 2-7. from page 25.\nIf you have any question\, feel free to email me at gamas@ayclogic.com. Please attach your codes if you have specific question about your code.
URL:https://www.ayclogic.com/event/6-pm-intro-to-python-gamas-24/
CATEGORIES:Python Class,Python Level 1
END:VEVENT
BEGIN:VEVENT
DTSTART;TZID=America/Los_Angeles:20230513T090000
DTEND;TZID=America/Los_Angeles:20230513T100000
DTSTAMP:20260425T112749
CREATED:20230513T023829Z
LAST-MODIFIED:20230513T185744Z
UID:19700-1683968400-1683972000@www.ayclogic.com
SUMMARY:SAT - 9 AM - Indo - Intro To Python - Gamas
DESCRIPTION:Homework\n\nSubmit a proposal for your Python Turtle project. This is due next week on May 20.\nProposal means a drawing (with colors) in a piece of paper that satisfy requirements in https://www.ayclogic.com/intro-to-python-final-project-criteria/\ntake a picture of your proposal and upload to google drive where you usually submit your homework.\nBelow are examples of other students proposal\n\n\nOut of this paper proposal\, eventually you need to create a Python Turtle program to draw drawing that you do in your proposal. This Python Turtle project is a big project that is due on June 17.\n\n\nFor other examples of my students projects\, you can see in https://www.ayclogic.com/python-digital-illustrations/
URL:https://www.ayclogic.com/event/sat-9-am-indo-intro-to-python-gamas/
CATEGORIES:Python Class,Python Level 1
END:VEVENT
BEGIN:VEVENT
DTSTART;TZID=America/Los_Angeles:20230513T140000
DTEND;TZID=America/Los_Angeles:20230513T150000
DTSTAMP:20260425T112750
CREATED:20230516T032420Z
LAST-MODIFIED:20230516T032420Z
UID:19764-1683986400-1683990000@www.ayclogic.com
SUMMARY:2 PM – Intro To Python – Sebastian
DESCRIPTION:Today We Did\n\nFinished review for our final test\nIn case you need anything\, feel free to email me at sebastian@ayclogic.com\n\nHomework\n\nNo homework\, but please review the work we did in class so you are prepared for the final test
URL:https://www.ayclogic.com/event/2-pm-intro-to-python-sebastian-32/
CATEGORIES:Python Class,Python Level 1
END:VEVENT
BEGIN:VEVENT
DTSTART;TZID=America/Los_Angeles:20230513T150000
DTEND;TZID=America/Los_Angeles:20230513T160000
DTSTAMP:20260425T112750
CREATED:20230516T032742Z
LAST-MODIFIED:20230516T032742Z
UID:19770-1683990000-1683993600@www.ayclogic.com
SUMMARY:3 PM – Intro To Python – Sebastian
DESCRIPTION:Today We Did\n\nFinished Robux Balance Program\nBegan review for final test\nIn case you need anything\, feel free to email me at sebastian@ayclogic.com\n\nHomework\n\nMake sure you’re finished with the project by the next time we meet (its due this Saturday!)\nNo homework\, but please review the work we did in class so you are prepared for the review this upcoming week\, and then the final test
URL:https://www.ayclogic.com/event/3-pm-intro-to-python-sebastian-31/
CATEGORIES:Python Class,Python Level 1
END:VEVENT
BEGIN:VEVENT
DTSTART;TZID=America/Los_Angeles:20230513T180000
DTEND;TZID=America/Los_Angeles:20230513T190000
DTSTAMP:20260425T112750
CREATED:20230514T020712Z
LAST-MODIFIED:20230520T214305Z
UID:19727-1684000800-1684004400@www.ayclogic.com
SUMMARY:6:00 PM - Intro to Python - Juan
DESCRIPTION:Today We Did\n\nLearned about functions with return values\n\nHomework\n\nName your HW file May20_FunctionHW.py and do Number 7 from https://www.ayclogic.com/list-inputs-if-and-else-loops-and-function/ \nAnd Pg. 138\, 139
URL:https://www.ayclogic.com/event/600/
CATEGORIES:Python Class,Python Level 1
END:VEVENT
BEGIN:VEVENT
DTSTART;TZID=America/Los_Angeles:20230516T170000
DTEND;TZID=America/Los_Angeles:20230516T180000
DTSTAMP:20260425T112750
CREATED:20230517T011258Z
LAST-MODIFIED:20230517T011258Z
UID:19776-1684256400-1684260000@www.ayclogic.com
SUMMARY:5:00 PM – Python Object Oriented Programming – Sebastian
DESCRIPTION:Today We Did\n\nWe implemented methods for adding\, listing\, and finding students and teachers using lists and dictionaries.\nWe also added Staff and Classroom classes\, but haven’t implemented the methods for them yet.\nIn case you need anything\, feel free to email me at sebastian@ayclogic.com\n\nHomework\n\nName your homework MAY16_dictionary_hw\, please submit by next Wednesday.\nHomework:\na) Start by importing the new classes we created for staff and classroom so you can instantiate them (make the classes into objects) \nb) Write the corresponding methods for menu items 6\, 9\, 10\, 12\, 13\, 14\, 15. Remember to look back at how we previously implemented methods like add\, list\, and find to make it easier.
URL:https://www.ayclogic.com/event/500-pm-python-object-oriented-programming-sebastian-5/
CATEGORIES:OOP Python,Python Class
END:VEVENT
BEGIN:VEVENT
DTSTART;TZID=America/Los_Angeles:20230516T183000
DTEND;TZID=America/Los_Angeles:20230516T193000
DTSTAMP:20260425T112750
CREATED:20230517T022950Z
LAST-MODIFIED:20230517T023938Z
UID:19780-1684261800-1684265400@www.ayclogic.com
SUMMARY:6:30 PM – Python Object Oriented Programming – Sebastian
DESCRIPTION:Today We Did\n\nFinished monster system\nReviewed REALLY IMPORTANT homework assignment you guys have!! Please make sure you complete it with enough time!\nFinal exam will be the following week after reviewing the solution (June 3rd) and it will be 2 hours long\nIn case you need anything\, feel free to email me at sebastian@ayclogic.com\n\nHomework\n\nName your homework MAY16_practice_test_hw\, please submit by next Monday.\nHomework: Please make sure you spend enough time on this assignment\, as if you don’t finish it you won’t be able to pass the class (its worth a lot of points!). Take advantage of my email as well\, so I can help answer any questions.Homework assignment link:\nhttps://docs.google.com/forms/d/1OhKBN8q59La_rmyNiMu1iSrQks5ssOIMDH0cACNV1Z0
URL:https://www.ayclogic.com/event/630-pm-python-object-oriented-programming-sebastian-20/
CATEGORIES:OOP Python,Python Class
END:VEVENT
BEGIN:VEVENT
DTSTART;TZID=America/Los_Angeles:20230517T183000
DTEND;TZID=America/Los_Angeles:20230517T193000
DTSTAMP:20260425T112750
CREATED:20230518T023046Z
LAST-MODIFIED:20230518T023046Z
UID:19795-1684348200-1684351800@www.ayclogic.com
SUMMARY:6:30 PM – Intro To Python – Sebastian
DESCRIPTION:Today We Did\n\nBuilt a kaleido spiral step by step\nReviewed project proposals\nIn case you need anything\, feel free to email me at sebastian@ayclogic.com\n\nHomework\n\nName your homework MAY17_project_hw1\, please submit by next Tuesday.\nHomework: Get started on your projects and make as much progress as you can so you can finish a week early and get 10% extra credit!\nFinal project will be due on June 14th\, if you turn it in 1 week ahead (June 7th) you can get 10% extra credit. This means if everything is correct\, you would have 110% for the project grade!
URL:https://www.ayclogic.com/event/630-pm-intro-to-python-sebastian-19/
CATEGORIES:Python Class,Python Level 1
END:VEVENT
BEGIN:VEVENT
DTSTART;TZID=America/Los_Angeles:20230517T183000
DTEND;TZID=America/Los_Angeles:20230517T193000
DTSTAMP:20260425T112750
CREATED:20230518T023052Z
LAST-MODIFIED:20230520T214258Z
UID:19796-1684348200-1684351800@www.ayclogic.com
SUMMARY:6:30 PM - Intro to Python - Juan
DESCRIPTION:Today We Did\n\nReviewed about using a for loop in range.\nFinished covering while loop\nContact me at juan@ayclogic.com for any questions\n\nHomework\n\nName your file May17_Quiz1_HW.py Do all the problems from: https://www.ayclogic.com/intro-to-python-exercises/
URL:https://www.ayclogic.com/event/630-pm-intro-to-python-juan-4/
CATEGORIES:Python Class,Python Level 1
END:VEVENT
BEGIN:VEVENT
DTSTART;TZID=America/Los_Angeles:20230520T090000
DTEND;TZID=America/Los_Angeles:20230520T100000
DTSTAMP:20260425T112750
CREATED:20230520T031346Z
LAST-MODIFIED:20230521T195732Z
UID:19835-1684573200-1684576800@www.ayclogic.com
SUMMARY:9 AM - Indo - Intro To Python - Gamas
DESCRIPTION:Today We Did\n\nWe learn how to draw letter S with combination of rectangles.\nWe learn how to do half circles.\n\nHomework\n\nStart working on your turtle python project according to your proposal.\nBy next week May 27\, you should have done 25% of it.
URL:https://www.ayclogic.com/event/9-am-indo-intro-to-python-gamas-6/
CATEGORIES:Python Level 1
END:VEVENT
BEGIN:VEVENT
DTSTART;TZID=America/Los_Angeles:20230520T150000
DTEND;TZID=America/Los_Angeles:20230520T160000
DTSTAMP:20260425T112750
CREATED:20230520T230152Z
LAST-MODIFIED:20230520T230152Z
UID:19866-1684594800-1684598400@www.ayclogic.com
SUMMARY:3 PM – Intro To Python – Sebastian
DESCRIPTION:Today We Did\n\nFinal exam preparation (turtle and menu prompt kind of games)\nIn case you need anything\, feel free to email me at sebastian@ayclogic.com\n\nHomework\n\nName your homework final_project_corrections\, please submit by next Friday.\nHomework: Finish any corrections specified by my email before the last exam for a chance to get additional points back\nPrepare for the exam by reviewing the program we created in class\, and by reviewing our previous menu programs like robux_system and grocery_system
URL:https://www.ayclogic.com/event/3-pm-intro-to-python-sebastian-32/
CATEGORIES:Python Class,Python Level 1
END:VEVENT
BEGIN:VEVENT
DTSTART;TZID=America/Los_Angeles:20230520T180000
DTEND;TZID=America/Los_Angeles:20230520T190000
DTSTAMP:20260425T112750
CREATED:20230521T021635Z
LAST-MODIFIED:20230521T021635Z
UID:19870-1684605600-1684609200@www.ayclogic.com
SUMMARY:6:00 PM - Intro to Python - Juan
DESCRIPTION:Today We Did\n\nReviewed last week’s homework on functions with return values.\nLearned about the random module.\nNo class next week\, next class on June 3\nView what we covered today: https://drive.google.com/drive/u/1/folders/15Guajo6GvNi_09_rLw7QNwPyAcz1sBNA\n\nHomework\n\nCreate a new file June3_Magic8Ball_HW.py\nUse random.choice() instead of random.randint().\nNo class next week\, next class on June 3
URL:https://www.ayclogic.com/event/600-pm-intro-to-python-juan-13/
CATEGORIES:Python Class,Python Level 1
END:VEVENT
BEGIN:VEVENT
DTSTART;TZID=America/Los_Angeles:20230523T170000
DTEND;TZID=America/Los_Angeles:20230523T180000
DTSTAMP:20260425T112750
CREATED:20230524T010402Z
LAST-MODIFIED:20230524T010402Z
UID:19940-1684861200-1684864800@www.ayclogic.com
SUMMARY:5:00 PM – Python Object Oriented Programming – Sebastian
DESCRIPTION:Today We Did\n\nBegan library system\nCreated Book class (remember\, our “model” for the book object)\nCreated add_book\, list_all_books\, and find_book_using_title\nIn case you need anything\, feel free to email me at sebastian@ayclogic.com\n\nHomework\n\nName your homework MAY23_library_system_hw\, please submit by next Monday.\nHomework:\na) First we need to add books to our books_by_id dictionary in the same add_book() method. This will be a bit different from how we did it for the books_dictionary dictionary\, it’s your job to try and find out the difference on how we should “add it”. \nb) Similar to how we created find_book_using_title()\, create a new method find_book_using_id() which will use our books_by_id dictionary attribute to find books after the user gives us a book ID. 
URL:https://www.ayclogic.com/event/500-pm-python-object-oriented-programming-sebastian-6/
CATEGORIES:OOP Python,Python Class
END:VEVENT
BEGIN:VEVENT
DTSTART;TZID=America/Los_Angeles:20230523T183000
DTEND;TZID=America/Los_Angeles:20230523T193000
DTSTAMP:20260425T112750
CREATED:20230524T023042Z
LAST-MODIFIED:20230524T023042Z
UID:19946-1684866600-1684870200@www.ayclogic.com
SUMMARY:6:30 PM – Python Object Oriented Programming – Sebastian
DESCRIPTION:Today We Did\n\nReviewed the homework which was preparation for the exam\nWent over more final exam preparation\nIn case you need anything\, feel free to email me at sebastian@ayclogic.com\n\nHomework\n\nName your homework MAY23_final_review_hw\, optionally submit by next Monday.\nHomework:\na) Optionally\, finish the final exam review that we started in class. You can design these classes however you want in order to really understand why we have different methods in attributes for these “System” classes \nb) Review the driver homework you were assigned to continue preparing for the final
URL:https://www.ayclogic.com/event/630-pm-python-object-oriented-programming-sebastian-21/
CATEGORIES:OOP Python,Python Class
END:VEVENT
BEGIN:VEVENT
DTSTART;TZID=America/Los_Angeles:20230524T183000
DTEND;TZID=America/Los_Angeles:20230524T193000
DTSTAMP:20260425T112750
CREATED:20230525T023314Z
LAST-MODIFIED:20230525T023314Z
UID:19952-1684953000-1684956600@www.ayclogic.com
SUMMARY:6:30 PM – Intro To Python – Sebastian
DESCRIPTION:Today We Did\n\nReviewed progress on projects (great work on your projects everyone!!!)\nHelped with ideas and reviewed our semi circle function\nBegan GrocerySystem program\nIn case you need anything\, feel free to email me at sebastian@ayclogic.com\n\nHomework\n\nName your homework JAN17_dictionary_hw\, please submit by next Monday.\nHomework: Continue working on your projects and make as much progress as you can so you can finish a week early and get 10% extra credit!\nFinal project will be due on June 14th\, if you turn it in 1 week ahead (June 7th\, 2 weeks from now) you can get 10% extra credit. This means if everything is correct\, you would have 110% for the project grade!
URL:https://www.ayclogic.com/event/630-pm-intro-to-python-sebastian-20/
CATEGORIES:Python Class,Python Level 1
END:VEVENT
BEGIN:VEVENT
DTSTART;TZID=America/Los_Angeles:20230525T190000
DTEND;TZID=America/Los_Angeles:20230525T200000
DTSTAMP:20260425T112750
CREATED:20230526T031303Z
LAST-MODIFIED:20230526T031303Z
UID:19993-1685041200-1685044800@www.ayclogic.com
SUMMARY:7 PM - Python Game Dev - Latisha
DESCRIPTION:Gamas sub \nToday We Did\n\nWe added collision detection between multiple special fireballs and birds.\nWe utilized for loop to display these 4 multiple fireballs\nWe added sound effects: one for regular fireball and one for giant fireball.\n\nHomework\n\nAdd “Giant Fireball Countdown <self.giant_fireball_count_down>” on the top right corner of the screen. Look at how we display the score on the top left corner of the screen.\nCreate a new attribute inside main.py: self.giant_fireball_count_down = 10000.\nAs the game continues\, reduce this new attribute by one. Next week Latisha will show you how to properly reduce this new attribute to display properly second by second count down.
URL:https://www.ayclogic.com/event/7-pm-python-game-dev-latisha/
CATEGORIES:Python Class,Python Game Development
END:VEVENT
BEGIN:VEVENT
DTSTART;TZID=America/Los_Angeles:20230527T090000
DTEND;TZID=America/Los_Angeles:20230527T100000
DTSTAMP:20260425T112750
CREATED:20230527T031214Z
LAST-MODIFIED:20230527T031342Z
UID:20003-1685178000-1685181600@www.ayclogic.com
SUMMARY:9 AM - Indo - Intro To Python - Gamas
DESCRIPTION:Today We Did\n\nWe reviewed project progress from everyone.\nWe started doing Kaleido Spiral project.\n\nHomework\n\ncontinue on your personal turtle project. By next week June 3rd\, your project should be half done or 50% of it. The turtle project is due on June 17.\nUpload your personal turtle project progress to your assigned google drive by Friday night every week. Just like how you upload your homework every week.\nYou can ask me question in gamas@ayclogic.com
URL:https://www.ayclogic.com/event/9-am-indo-intro-to-python-gamas-7/
CATEGORIES:Python Class,Python Level 1
END:VEVENT
END:VCALENDAR