BEGIN:VCALENDAR
VERSION:2.0
PRODID:-//American Young Coder - ECPv6.10.1.1//NONSGML v1.0//EN
CALSCALE:GREGORIAN
METHOD:PUBLISH
X-WR-CALNAME:American Young Coder
X-ORIGINAL-URL:https://www.ayclogic.com
X-WR-CALDESC:Events for American Young Coder
REFRESH-INTERVAL;VALUE=DURATION:PT1H
X-Robots-Tag:noindex
X-PUBLISHED-TTL:PT1H
BEGIN:VTIMEZONE
TZID:America/Los_Angeles
BEGIN:DAYLIGHT
TZOFFSETFROM:-0800
TZOFFSETTO:-0700
TZNAME:PDT
DTSTART:20220313T100000
END:DAYLIGHT
BEGIN:STANDARD
TZOFFSETFROM:-0700
TZOFFSETTO:-0800
TZNAME:PST
DTSTART:20221106T090000
END:STANDARD
END:VTIMEZONE
BEGIN:VEVENT
DTSTART;TZID=America/Los_Angeles:20220916T190000
DTEND;TZID=America/Los_Angeles:20220916T200000
DTSTAMP:20260425T172551
CREATED:20220917T043522Z
LAST-MODIFIED:20220917T043522Z
UID:14985-1663354800-1663358400@www.ayclogic.com
SUMMARY:7 PM - Python Game Development - Gamas
DESCRIPTION:Today We Did\n\nWe went over how to add count down to Flappy Bird game.\nWe added sound effect when Bird and Coin collide.\nWe added Game Win page when count down goes to 0 or less and score is 5 or bigger.\n\nHomework\n\nContinue on your team project according to project plan in the google doc.
URL:https://www.ayclogic.com/event/7-pm-python-game-development-gamas-7/
CATEGORIES:Python Class,Python Game Development
END:VEVENT
END:VCALENDAR