BEGIN:VCALENDAR
VERSION:2.0
PRODID:-//American Young Coder - ECPv6.10.1.1//NONSGML v1.0//EN
CALSCALE:GREGORIAN
METHOD:PUBLISH
X-WR-CALNAME:American Young Coder
X-ORIGINAL-URL:https://www.ayclogic.com
X-WR-CALDESC:Events for American Young Coder
REFRESH-INTERVAL;VALUE=DURATION:PT1H
X-Robots-Tag:noindex
X-PUBLISHED-TTL:PT1H
BEGIN:VTIMEZONE
TZID:America/Los_Angeles
BEGIN:DAYLIGHT
TZOFFSETFROM:-0800
TZOFFSETTO:-0700
TZNAME:PDT
DTSTART:20220313T100000
END:DAYLIGHT
BEGIN:STANDARD
TZOFFSETFROM:-0700
TZOFFSETTO:-0800
TZNAME:PST
DTSTART:20221106T090000
END:STANDARD
END:VTIMEZONE
BEGIN:VEVENT
DTSTART;TZID=America/Los_Angeles:20221007T190000
DTEND;TZID=America/Los_Angeles:20221007T200000
DTSTAMP:20260425T185548
CREATED:20221008T043201Z
LAST-MODIFIED:20221008T043201Z
UID:15579-1665169200-1665172800@www.ayclogic.com
SUMMARY:7 PM - Python Game Development - Gamas
DESCRIPTION:Homework\n\nContinue with your team project according google drive.
URL:https://www.ayclogic.com/event/7-pm-python-game-development-gamas-9/
CATEGORIES:Python Class,Python Game Development
END:VEVENT
END:VCALENDAR