BEGIN:VCALENDAR
VERSION:2.0
PRODID:-//American Young Coder - ECPv6.10.1.1//NONSGML v1.0//EN
CALSCALE:GREGORIAN
METHOD:PUBLISH
X-ORIGINAL-URL:https://www.ayclogic.com
X-WR-CALDESC:Events for American Young Coder
REFRESH-INTERVAL;VALUE=DURATION:PT1H
X-Robots-Tag:noindex
X-PUBLISHED-TTL:PT1H
BEGIN:VTIMEZONE
TZID:America/Los_Angeles
BEGIN:DAYLIGHT
TZOFFSETFROM:-0800
TZOFFSETTO:-0700
TZNAME:PDT
DTSTART:20220313T100000
END:DAYLIGHT
BEGIN:STANDARD
TZOFFSETFROM:-0700
TZOFFSETTO:-0800
TZNAME:PST
DTSTART:20221106T090000
END:STANDARD
END:VTIMEZONE
BEGIN:VEVENT
DTSTART;TZID=America/Los_Angeles:20221029T100000
DTEND;TZID=America/Los_Angeles:20221029T110000
DTSTAMP:20260425T160006
CREATED:20221029T040455Z
LAST-MODIFIED:20221029T043203Z
UID:16052-1667037600-1667041200@www.ayclogic.com
SUMMARY:10 AM - Intro To Python - Indo - Gamas
DESCRIPTION:Today We Did\n\nWe reviewed For Loop Range homework.\nWe reviewed some homework about List and If Elif Else statements. Also added OR operator.\nAll files have been uploaded to google drive just in case if you lost your files.\n\nHomework\n\nCreate Oct29_WhileLoopHomework.py\nCopy code from Page 118 and 121.\nIf you have question\, you can email to gamas@ayclogic.com
URL:https://www.ayclogic.com/event/10-am-intro-to-python-indo-gamas-6/
CATEGORIES:Python Level 1
END:VEVENT
BEGIN:VEVENT
DTSTART;TZID=America/Los_Angeles:20221029T140000
DTEND;TZID=America/Los_Angeles:20221029T150000
DTSTAMP:20260425T160006
CREATED:20221029T215859Z
LAST-MODIFIED:20221029T215859Z
UID:16078-1667052000-1667055600@www.ayclogic.com
SUMMARY:2 PM – Intro To Python – Sebastian
DESCRIPTION:Today We Did\n\nWhile loops continue to loop when the condition is True\nReviewed how to increment variables ( counter += 1 )\n\nHomework\n\nHomework: Page 118 and 121: 10th week\nHomework: Page 123-124\, TRY IT YOURSELF 7-4\, 7-5\, 7-6\, 7-7\n\n 
URL:https://www.ayclogic.com/event/2-pm-intro-to-python-sebastian-8/
CATEGORIES:Python Class,Python Level 1
END:VEVENT
BEGIN:VEVENT
DTSTART;TZID=America/Los_Angeles:20221029T140000
DTEND;TZID=America/Los_Angeles:20221029T150000
DTSTAMP:20260425T160006
CREATED:20221030T013217Z
LAST-MODIFIED:20221030T013217Z
UID:16090-1667052000-1667055600@www.ayclogic.com
SUMMARY:2 PM - Intro To Python - Gamas
DESCRIPTION:Today We Did\n\nWe learned function with return value.\nWe learned random module. We learned how to create random number between range. We learned how to choose random element from a list.
URL:https://www.ayclogic.com/event/2-pm-intro-to-python-gamas-26/
CATEGORIES:Python Class,Python Level 1
END:VEVENT
BEGIN:VEVENT
DTSTART;TZID=America/Los_Angeles:20221029T150000
DTEND;TZID=America/Los_Angeles:20221029T160000
DTSTAMP:20260425T160006
CREATED:20221029T234130Z
LAST-MODIFIED:20221029T234130Z
UID:16080-1667055600-1667059200@www.ayclogic.com
SUMMARY:3 PM – Intro To Python – Sebastian
DESCRIPTION:Today We Did\n\nLearned about how while loops continue to loop when their condition (turns into a boolean) is true\nReviewed how to get user input ( input() )\nRemembered that for loops CREATE variables\, and those variables will replace other variables that have the same name\n\nHomework\n\nHomework: Page 118 and 121\nHomework: Page 123-124 TRY IT YOURSELF 7-4\, 7-5\, 7-6\, 7-7
URL:https://www.ayclogic.com/event/3-pm-intro-to-python-sebastian-10/
CATEGORIES:Python Class,Python Level 1
END:VEVENT
END:VCALENDAR