BEGIN:VCALENDAR
VERSION:2.0
PRODID:-//American Young Coder - ECPv6.10.1.1//NONSGML v1.0//EN
CALSCALE:GREGORIAN
METHOD:PUBLISH
X-ORIGINAL-URL:https://www.ayclogic.com
X-WR-CALDESC:Events for American Young Coder
REFRESH-INTERVAL;VALUE=DURATION:PT1H
X-Robots-Tag:noindex
X-PUBLISHED-TTL:PT1H
BEGIN:VTIMEZONE
TZID:America/Los_Angeles
BEGIN:DAYLIGHT
TZOFFSETFROM:-0800
TZOFFSETTO:-0700
TZNAME:PDT
DTSTART:20220313T100000
END:DAYLIGHT
BEGIN:STANDARD
TZOFFSETFROM:-0700
TZOFFSETTO:-0800
TZNAME:PST
DTSTART:20221106T090000
END:STANDARD
END:VTIMEZONE
BEGIN:VEVENT
DTSTART;TZID=America/Los_Angeles:20221104T163000
DTEND;TZID=America/Los_Angeles:20221104T173000
DTSTAMP:20260425T130331
CREATED:20221105T002947Z
LAST-MODIFIED:20221105T014233Z
UID:16207-1667579400-1667583000@www.ayclogic.com
SUMMARY:4:30 PM - Intro To Python - Gamas
DESCRIPTION:Homework\n\nCreate a new Python file in Thonny Nov4_StringHomework.py\nCopy codes from page 20 to 23. If you do not have the book yet\, you can look here IntroToPythonP20toP23\nUpload your homeworks to google drive assigned for you during the class.
URL:https://www.ayclogic.com/event/430-pm-intro-to-python-gamas/
CATEGORIES:Python Class,Python Level 1
END:VEVENT
BEGIN:VEVENT
DTSTART;TZID=America/Los_Angeles:20221104T190000
DTEND;TZID=America/Los_Angeles:20221104T200000
DTSTAMP:20260425T130331
CREATED:20221105T025900Z
LAST-MODIFIED:20221105T025900Z
UID:16216-1667588400-1667592000@www.ayclogic.com
SUMMARY:7 PM - Python Game Development - Gamas
DESCRIPTION:Homework\n\nKeanu: In your personal project\, change the credit page\n\nAdd Logo Designer: Christopher Chen\nChange school to be ayclogic.com\nChange Advisor from Gamas to Gamas Chang.\n\n\nChristopher: In your personal project\, change the credit page\n\nAdd Advisor: Gamas Chang\nAdd school to be ayclogic.com\nGame assets: add where you found your sound effects or background sound.\n\n\nFor both of you in Shoot ballon game\n\nDisplay score in the screen.\nDisplay explosion score on top of the explode image. Look at how we display “Bad Balloon” text on top of the balloon.
URL:https://www.ayclogic.com/event/7-pm-python-game-development-gamas-13/
CATEGORIES:Python Class,Python Game Development
END:VEVENT
END:VCALENDAR