BEGIN:VCALENDAR
VERSION:2.0
PRODID:-//American Young Coder - ECPv6.10.1.1//NONSGML v1.0//EN
CALSCALE:GREGORIAN
METHOD:PUBLISH
X-ORIGINAL-URL:https://www.ayclogic.com
X-WR-CALDESC:Events for American Young Coder
REFRESH-INTERVAL;VALUE=DURATION:PT1H
X-Robots-Tag:noindex
X-PUBLISHED-TTL:PT1H
BEGIN:VTIMEZONE
TZID:America/Los_Angeles
BEGIN:DAYLIGHT
TZOFFSETFROM:-0800
TZOFFSETTO:-0700
TZNAME:PDT
DTSTART:20220313T100000
END:DAYLIGHT
BEGIN:STANDARD
TZOFFSETFROM:-0700
TZOFFSETTO:-0800
TZNAME:PST
DTSTART:20221106T090000
END:STANDARD
END:VTIMEZONE
BEGIN:VEVENT
DTSTART;TZID=America/Los_Angeles:20221105T100000
DTEND;TZID=America/Los_Angeles:20221105T110000
DTSTAMP:20260425T173533
CREATED:20221105T035957Z
LAST-MODIFIED:20221109T025404Z
UID:16219-1667642400-1667646000@www.ayclogic.com
SUMMARY:10 AM - Intro To Python - Indo - Gamas
DESCRIPTION:Homework\n\nCreate a new file Nov5_1stQuizPrep.py\ndo exercises from https://www.ayclogic.com/intro-to-python-exercises/\nIf you have question\, please email me at gamas@ayclogic.com
URL:https://www.ayclogic.com/event/10-am-intro-to-python-indo-gamas-7/
CATEGORIES:Python Class,Python Level 1
END:VEVENT
BEGIN:VEVENT
DTSTART;TZID=America/Los_Angeles:20221105T140000
DTEND;TZID=America/Los_Angeles:20221105T150000
DTSTAMP:20260425T173533
CREATED:20221105T231812Z
LAST-MODIFIED:20221112T215442Z
UID:16241-1667656800-1667660400@www.ayclogic.com
SUMMARY:2 PM – Intro To Python – Sebastian
DESCRIPTION:Today We Did\n\nFull review!\nVariables and data types\ninput()\, + – * /\, += -= *= /=\, and how they effect different data types\nif elif and else statements and how they need to be ordered\nlists\, list indexing\, and all their functions\nfor each loops\, and for loops that go over every index\nwhile loops\n\nHomework\n\nName your homework NOV5_quizreview_hw\nHomework: Try these exercises: https://www.ayclogic.com/intro-to-python-exercises/
URL:https://www.ayclogic.com/event/2-pm-intro-to-python-sebastian-9/
CATEGORIES:Python Class,Python Level 1
END:VEVENT
BEGIN:VEVENT
DTSTART;TZID=America/Los_Angeles:20221105T150000
DTEND;TZID=America/Los_Angeles:20221105T160000
DTSTAMP:20260425T173533
CREATED:20221105T231903Z
LAST-MODIFIED:20221112T013326Z
UID:16243-1667660400-1667664000@www.ayclogic.com
SUMMARY:3 PM – Intro To Python – Sebastian
DESCRIPTION:Today We Did\n\nFull review!\nVariables and data types\ninput()\, + – * /\, += -= *= /=\, and how they effect different data types\nif elif and else statements and how they need to be ordered\nlists\, list indexing\, and all their functions\nfor each loops\, and for loops that go over every index\nwhile loops\n\nHomework\n\nName your homework NOV5_quizreview_hw\nHomework: Try these exercises: https://www.ayclogic.com/intro-to-python-exercises/
URL:https://www.ayclogic.com/event/3-pm-intro-to-python-sebastian-11/
CATEGORIES:Python Class,Python Level 1
END:VEVENT
END:VCALENDAR