BEGIN:VCALENDAR
VERSION:2.0
PRODID:-//American Young Coder - ECPv6.10.1.1//NONSGML v1.0//EN
CALSCALE:GREGORIAN
METHOD:PUBLISH
X-ORIGINAL-URL:https://www.ayclogic.com
X-WR-CALDESC:Events for American Young Coder
REFRESH-INTERVAL;VALUE=DURATION:PT1H
X-Robots-Tag:noindex
X-PUBLISHED-TTL:PT1H
BEGIN:VTIMEZONE
TZID:America/Los_Angeles
BEGIN:DAYLIGHT
TZOFFSETFROM:-0800
TZOFFSETTO:-0700
TZNAME:PDT
DTSTART:20220313T100000
END:DAYLIGHT
BEGIN:STANDARD
TZOFFSETFROM:-0700
TZOFFSETTO:-0800
TZNAME:PST
DTSTART:20221106T090000
END:STANDARD
END:VTIMEZONE
BEGIN:VEVENT
DTSTART;TZID=America/Los_Angeles:20221108T173000
DTEND;TZID=America/Los_Angeles:20221108T183000
DTSTAMP:20260425T130419
CREATED:20221109T024644Z
LAST-MODIFIED:20221109T024644Z
UID:16287-1667928600-1667932200@www.ayclogic.com
SUMMARY:5:30 PM - Intro To Python - Gamas
DESCRIPTION:Today We Did\n\nWe reviewed everyone’s project progress.\nWe make sure everyone knows how to continuously draw one shape with different colors. This is one of the requirement for the Turtle final project.\nWe started ShoppingCart project.\n\nHomework\n\nFinish your turtle python project. It is due next week 11/15.
URL:https://www.ayclogic.com/event/530-pm-intro-to-python-gamas-4/
CATEGORIES:Python Class,Python Level 1
END:VEVENT
END:VCALENDAR