BEGIN:VCALENDAR
VERSION:2.0
PRODID:-//American Young Coder - ECPv6.10.1.1//NONSGML v1.0//EN
CALSCALE:GREGORIAN
METHOD:PUBLISH
X-ORIGINAL-URL:https://www.ayclogic.com
X-WR-CALDESC:Events for American Young Coder
REFRESH-INTERVAL;VALUE=DURATION:PT1H
X-Robots-Tag:noindex
X-PUBLISHED-TTL:PT1H
BEGIN:VTIMEZONE
TZID:America/Los_Angeles
BEGIN:DAYLIGHT
TZOFFSETFROM:-0800
TZOFFSETTO:-0700
TZNAME:PDT
DTSTART:20220313T100000
END:DAYLIGHT
BEGIN:STANDARD
TZOFFSETFROM:-0700
TZOFFSETTO:-0800
TZNAME:PST
DTSTART:20221106T090000
END:STANDARD
END:VTIMEZONE
BEGIN:VEVENT
DTSTART;TZID=America/Los_Angeles:20221109T180000
DTEND;TZID=America/Los_Angeles:20221109T190000
DTSTAMP:20260425T130426
CREATED:20221110T031112Z
LAST-MODIFIED:20221110T031112Z
UID:16312-1668016800-1668020400@www.ayclogic.com
SUMMARY:6 PM – Intro To Python – Sebastian
DESCRIPTION:Today We Did\n\nString functionalities:  .title()\, .upper()\, .lower()\nFormatted strings: f””\nRemoving end spaces: .rstrip()\, .lstrip()\, .strip()\nEscape keys: \n \t \” \’\n\nHomework\n\nCreate a new Python file NOV9_StringHomework2.py in Thonny.\nOn page 29\, do 2-8\, and do 2-9 using a formatted string.\nIf you have questions\, you can email me: sebastian@ayclogic.com.
URL:https://www.ayclogic.com/event/6-pm-intro-to-python-sebastian-2/
CATEGORIES:Python Class,Python Level 1
END:VEVENT
BEGIN:VEVENT
DTSTART;TZID=America/Los_Angeles:20221109T180000
DTEND;TZID=America/Los_Angeles:20221109T190000
DTSTAMP:20260425T130426
CREATED:20221110T045457Z
LAST-MODIFIED:20221110T045457Z
UID:16313-1668016800-1668020400@www.ayclogic.com
SUMMARY:6 PM - Python OOP - Gamas
DESCRIPTION:Today We Did\n\nWe went over Restaurant and User classes.\nWe reviewed\, attributes\, methods and init methods.\nWhen we should use self.\n\nHomework\n\nCreate Nov8_ClassHomework3.py\nCopy codes from page 162 to 166
URL:https://www.ayclogic.com/event/6-pm-python-oop-gamas-6/
CATEGORIES:OOP Python,Python Class
END:VEVENT
END:VCALENDAR