BEGIN:VCALENDAR
VERSION:2.0
PRODID:-//American Young Coder - ECPv6.10.1.1//NONSGML v1.0//EN
CALSCALE:GREGORIAN
METHOD:PUBLISH
X-WR-CALNAME:American Young Coder
X-ORIGINAL-URL:https://www.ayclogic.com
X-WR-CALDESC:Events for American Young Coder
REFRESH-INTERVAL;VALUE=DURATION:PT1H
X-Robots-Tag:noindex
X-PUBLISHED-TTL:PT1H
BEGIN:VTIMEZONE
TZID:America/Los_Angeles
BEGIN:DAYLIGHT
TZOFFSETFROM:-0800
TZOFFSETTO:-0700
TZNAME:PDT
DTSTART:20220313T100000
END:DAYLIGHT
BEGIN:STANDARD
TZOFFSETFROM:-0700
TZOFFSETTO:-0800
TZNAME:PST
DTSTART:20221106T090000
END:STANDARD
END:VTIMEZONE
BEGIN:VEVENT
DTSTART;TZID=America/Los_Angeles:20221116T180000
DTEND;TZID=America/Los_Angeles:20221116T190000
DTSTAMP:20260425T203809
CREATED:20221117T025907Z
LAST-MODIFIED:20221117T025907Z
UID:16448-1668621600-1668625200@www.ayclogic.com
SUMMARY:6 PM - Python OOP - Gamas
DESCRIPTION:Homework\n\nCopy Oct5_GroceryShoppingCartV2.py into Nov16_GroceryShoppingCartUsingClass.py\nInside this file\, create a new class on the top of the file\n\nGroceryItem\nInside this class\, it will have 2 attributes\n\nname\nprice\n\n\n\n\nCreate Nov16_ClassHomeworkP167.py\nInside this file\, copy all codes from Nov2_ClassHomework2.py and then you will answer questions from page 167: TRY IT YOURSELF 9-4 and 9-5.
URL:https://www.ayclogic.com/event/6-pm-python-oop-gamas-7/
CATEGORIES:Python Class,Python Level 1
END:VEVENT
BEGIN:VEVENT
DTSTART;TZID=America/Los_Angeles:20221116T180000
DTEND;TZID=America/Los_Angeles:20221116T190000
DTSTAMP:20260425T203809
CREATED:20221117T031145Z
LAST-MODIFIED:20221117T031145Z
UID:16447-1668621600-1668625200@www.ayclogic.com
SUMMARY:6 PM – Intro To Python – Sebastian
DESCRIPTION:Today We Did\n\nLearned about if\, elif\, else\nLearned about how “if” starts a conditional block\, and “else” ends it\nLearned a bunch of operators (==\, !=\, <\, <=\, >\, >=)\nLearned about and\, or\, and how they treat true / false conditions\n\nHomework\n\nCreate a new Python file NOV16_IfElseHomework.py in Thonny\nPages 79-81 from the textbook\nIf you have questions\, you can email me: sebastian@ayclogic.com.
URL:https://www.ayclogic.com/event/6-pm-intro-to-python-sebastian-3/
CATEGORIES:Python Class,Python Level 1
END:VEVENT
END:VCALENDAR