BEGIN:VCALENDAR
VERSION:2.0
PRODID:-//American Young Coder - ECPv6.10.1.1//NONSGML v1.0//EN
CALSCALE:GREGORIAN
METHOD:PUBLISH
X-ORIGINAL-URL:https://www.ayclogic.com
X-WR-CALDESC:Events for American Young Coder
REFRESH-INTERVAL;VALUE=DURATION:PT1H
X-Robots-Tag:noindex
X-PUBLISHED-TTL:PT1H
BEGIN:VTIMEZONE
TZID:America/Los_Angeles
BEGIN:DAYLIGHT
TZOFFSETFROM:-0800
TZOFFSETTO:-0700
TZNAME:PDT
DTSTART:20220313T100000
END:DAYLIGHT
BEGIN:STANDARD
TZOFFSETFROM:-0700
TZOFFSETTO:-0800
TZNAME:PST
DTSTART:20221106T090000
END:STANDARD
END:VTIMEZONE
BEGIN:VEVENT
DTSTART;TZID=America/Los_Angeles:20221201T173000
DTEND;TZID=America/Los_Angeles:20221201T183000
DTSTAMP:20260425T101633
CREATED:20221202T023503Z
LAST-MODIFIED:20221202T023503Z
UID:16694-1669915800-1669919400@www.ayclogic.com
SUMMARY:5:30 PM - Intro To Python - AlexW / Gamas
DESCRIPTION:Today We Did\n\nWe did Dec1_TurtleBasic.py.\nWe drew a Square shape with a Turtle module.\nWe created draw_square(color) function.\n\nHomework\n\nCreate Dec1_Turtle4ShapesHomework.py\nAnd do exercises according to https://www.ayclogic.com/draw-4-shapes-using-turtle-module/
URL:https://www.ayclogic.com/event/530-pm-intro-to-python-alexw-gamas/
CATEGORIES:Python Class,Python Level 1
END:VEVENT
END:VCALENDAR