BEGIN:VCALENDAR
VERSION:2.0
PRODID:-//American Young Coder - ECPv6.10.1.1//NONSGML v1.0//EN
CALSCALE:GREGORIAN
METHOD:PUBLISH
X-WR-CALNAME:American Young Coder
X-ORIGINAL-URL:https://www.ayclogic.com
X-WR-CALDESC:Events for American Young Coder
REFRESH-INTERVAL;VALUE=DURATION:PT1H
X-Robots-Tag:noindex
X-PUBLISHED-TTL:PT1H
BEGIN:VTIMEZONE
TZID:America/Los_Angeles
BEGIN:DAYLIGHT
TZOFFSETFROM:-0800
TZOFFSETTO:-0700
TZNAME:PDT
DTSTART:20230312T100000
END:DAYLIGHT
BEGIN:STANDARD
TZOFFSETFROM:-0700
TZOFFSETTO:-0800
TZNAME:PST
DTSTART:20231105T090000
END:STANDARD
END:VTIMEZONE
BEGIN:VEVENT
DTSTART;TZID=America/Los_Angeles:20230105T190000
DTEND;TZID=America/Los_Angeles:20230105T200000
DTSTAMP:20260425T072904
CREATED:20230106T040739Z
LAST-MODIFIED:20230106T040739Z
UID:17386-1672945200-1672948800@www.ayclogic.com
SUMMARY:7 PM - Python OOP - Latisha
DESCRIPTION:Today We Did\n\nWe reviewed Class\, Inheritance\, methods\, __init__.\nWe reviewed how to override parent’s class method.\nWe continued with AdventureGame project by adding “1. Add New Monster”\n\nHomework\n\nContinue with AdventureGame project. Add code so it will do the following\n\nWhen the program first starts\, add the following monsters automatically to the monster_dictionary\n\nDragon – 100 health – 50 Max attack\nTroll – 50 health – 20 Max attack\nWater Golem – 30 health – 20 Max attack\nCyclops – 60 health – 30 Max attack\n\n\nAdd code to do “2. List all monsters” like below\n\nWelcome to AYC Logic Adventure Game\n\nMain Menu\n1. Add Monster\n2. List all monsters\n3. Play Adventure\n4. Exit\nEnter your selection: 2\nDragon - 100 health - 50 Max attack\nTroll - 50 health - 20 Max attack\nWater Golem - 30 health - 20 Max attack\nCyclops - 60 health - 30 Max attack\n\nMain Menu\n1. Add Monster\n2. List all monsters\n3. Play Adventure\n4. Exit\nEnter your selection: 1\n\nADD NEW MONSTER\nEnter monster species: Hydra\nEnter monster health: 80\nEnter monster max attack: 40\nYou have succesfully added Hydra to our system.\n\nMain Menu\n1. Add Monster\n2. List all monsters\n3. Play Adventure\n4. Exit\nEnter your selection: 2\nDragon - 100 health - 50 Max attack\nTroll - 50 health - 20 Max attack\nWater Golem - 30 health - 20 Max attack\nCyclops - 60 health - 30 Max attack\nHydra - 80 health - 40 Max attack\n\nMain Menu\n1. Add Monster\n2. List all monsters\n3. Play Adventure\n4. Exit\nEnter your selection:
URL:https://www.ayclogic.com/event/7-pm-python-oop-latisha-2/
CATEGORIES:OOP Python,Python Class
END:VEVENT
END:VCALENDAR