BEGIN:VCALENDAR
VERSION:2.0
PRODID:-//American Young Coder - ECPv6.10.1.1//NONSGML v1.0//EN
CALSCALE:GREGORIAN
METHOD:PUBLISH
X-WR-CALNAME:American Young Coder
X-ORIGINAL-URL:https://www.ayclogic.com
X-WR-CALDESC:Events for American Young Coder
REFRESH-INTERVAL;VALUE=DURATION:PT1H
X-Robots-Tag:noindex
X-PUBLISHED-TTL:PT1H
BEGIN:VTIMEZONE
TZID:America/Los_Angeles
BEGIN:DAYLIGHT
TZOFFSETFROM:-0800
TZOFFSETTO:-0700
TZNAME:PDT
DTSTART:20230312T100000
END:DAYLIGHT
BEGIN:STANDARD
TZOFFSETFROM:-0700
TZOFFSETTO:-0800
TZNAME:PST
DTSTART:20231105T090000
END:STANDARD
END:VTIMEZONE
BEGIN:VEVENT
DTSTART;TZID=America/Los_Angeles:20230112T190000
DTEND;TZID=America/Los_Angeles:20230112T200000
DTSTAMP:20260425T130156
CREATED:20230113T040759Z
LAST-MODIFIED:20230113T040907Z
UID:17593-1673550000-1673553600@www.ayclogic.com
SUMMARY:7 PM - Python OOP - Latisha
DESCRIPTION:Homework\n\nContinue on WED-7PM-AdventureGame when user enter incorrect monster species\, it will do the following\n\n\nPlease choose your monster: \nDragon - 100 health - 50 Max attack\nTroll - 50 health - 20 Max attack\nWater Golem - 30 health - 20 Max attack\nCyclops - 60 health - 30 Max attack\nEnter your selection (enter 'stop' to quit the game): unicorn\n\nInvalid selection\, 'unicorn' is not in our system. Please try again\n\n\n\nwhen user enter correct monster species then it will don the following\n\n\nPlease choose your monster: \nDragon - 100 health - 50 Max attack\nTroll - 50 health - 20 Max attack\nWater Golem - 30 health - 20 Max attack\nCyclops - 60 health - 30 Max attack\nEnter your selection (enter 'stop' to quit the game): dragon\n\nWhat do you want to do with the dragon\n1. Magic attack\n2. Sword attack - 10 to 20 damage\nEnter your selection:
URL:https://www.ayclogic.com/event/7-pm-python-oop-latisha-4/
CATEGORIES:OOP Python,Python Class
END:VEVENT
END:VCALENDAR