BEGIN:VCALENDAR
VERSION:2.0
PRODID:-//American Young Coder - ECPv6.10.1.1//NONSGML v1.0//EN
CALSCALE:GREGORIAN
METHOD:PUBLISH
X-ORIGINAL-URL:https://www.ayclogic.com
X-WR-CALDESC:Events for American Young Coder
REFRESH-INTERVAL;VALUE=DURATION:PT1H
X-Robots-Tag:noindex
X-PUBLISHED-TTL:PT1H
BEGIN:VTIMEZONE
TZID:America/Los_Angeles
BEGIN:DAYLIGHT
TZOFFSETFROM:-0800
TZOFFSETTO:-0700
TZNAME:PDT
DTSTART:20230312T100000
END:DAYLIGHT
BEGIN:STANDARD
TZOFFSETFROM:-0700
TZOFFSETTO:-0800
TZNAME:PST
DTSTART:20231105T090000
END:STANDARD
END:VTIMEZONE
BEGIN:VEVENT
DTSTART;TZID=America/Los_Angeles:20230114T100000
DTEND;TZID=America/Los_Angeles:20230114T110000
DTSTAMP:20260425T084552
CREATED:20230114T035742Z
LAST-MODIFIED:20230114T035742Z
UID:17598-1673690400-1673694000@www.ayclogic.com
SUMMARY:10 AM - Intro To Python - Indo - Gamas
DESCRIPTION:Today We Did\n\nWe reviewed function without return value homework and did more functions exercises in class.\n\nHomework\n\nCreate Jan14_FunctionHomework2.py\nDo exercises from page 137: TRY IT YOURSELF 8-3\, 8-4\, 8-5\nCopy codes from page 138\, only the codes on the top the page.
URL:https://www.ayclogic.com/event/10-am-intro-to-python-indo-gamas-10/
CATEGORIES:Python Class,Python Level 1
END:VEVENT
BEGIN:VEVENT
DTSTART;TZID=America/Los_Angeles:20230114T140000
DTEND;TZID=America/Los_Angeles:20230114T150000
DTSTAMP:20260425T084552
CREATED:20230117T153149Z
LAST-MODIFIED:20230117T153150Z
UID:17662-1673704800-1673708400@www.ayclogic.com
SUMMARY:2 PM – Intro To Python – Sebastian
DESCRIPTION:Today We Did \n\nBegun the hangman game!\nIn case you need anything\, feel free to email me at sebastian@ayclogic.com\n\nHomework\n\nName your homework JAN14_hangman_hw\, please submit by next Friday.\n\nHomework: Complete all of the steps on this website:\nhttps://www.ayclogic.com/looping-each-letter-in-a-word-exercise/
URL:https://www.ayclogic.com/event/2-pm-intro-to-python-sebastian-15/
CATEGORIES:Python Class,Python Level 1
END:VEVENT
BEGIN:VEVENT
DTSTART;TZID=America/Los_Angeles:20230114T150000
DTEND;TZID=America/Los_Angeles:20230114T160000
DTSTAMP:20260425T084552
CREATED:20230117T153612Z
LAST-MODIFIED:20230117T153612Z
UID:17664-1673708400-1673712000@www.ayclogic.com
SUMMARY:3 PM – Intro To Python – Sebastian
DESCRIPTION:Today We Did \n\nBegun the hangman game!\nIn case you need anything\, feel free to email me at sebastian@ayclogic.com\n\nHomework\n\nName your homework JAN14_hangman_hw\, please submit by next Friday.\n\nHomework: Complete all of the steps on this website:\nhttps://www.ayclogic.com/looping-each-letter-in-a-word-exercise/
URL:https://www.ayclogic.com/event/3-pm-intro-to-python-sebastian-17/
CATEGORIES:Python Class,Python Level 1
END:VEVENT
BEGIN:VEVENT
DTSTART;TZID=America/Los_Angeles:20230114T160000
DTEND;TZID=America/Los_Angeles:20230114T170000
DTSTAMP:20260425T084552
CREATED:20230115T005742Z
LAST-MODIFIED:20230115T005742Z
UID:17620-1673712000-1673715600@www.ayclogic.com
SUMMARY:4 PM - Python Game Development - Latisha
DESCRIPTION:Today We Did\n\nWe went over the team project next week task.\nWe continued with Flappy Duck project.\n\nHomework\n\nAdd code in Flappy Duck project to make the credit button clickable. This code should be inside main.py display_buttons(self) method.\nDo your tasks in your team project.\nIf you have question\, you can ask me at gamas@ayclogic.com.\n\n 
URL:https://www.ayclogic.com/event/4-pm-python-game-development-latisha-3/
CATEGORIES:Python Class,Python Game Development
END:VEVENT
END:VCALENDAR