BEGIN:VCALENDAR
VERSION:2.0
PRODID:-//American Young Coder - ECPv6.10.1.1//NONSGML v1.0//EN
CALSCALE:GREGORIAN
METHOD:PUBLISH
X-ORIGINAL-URL:https://www.ayclogic.com
X-WR-CALDESC:Events for American Young Coder
REFRESH-INTERVAL;VALUE=DURATION:PT1H
X-Robots-Tag:noindex
X-PUBLISHED-TTL:PT1H
BEGIN:VTIMEZONE
TZID:America/Los_Angeles
BEGIN:DAYLIGHT
TZOFFSETFROM:-0800
TZOFFSETTO:-0700
TZNAME:PDT
DTSTART:20230312T100000
END:DAYLIGHT
BEGIN:STANDARD
TZOFFSETFROM:-0700
TZOFFSETTO:-0800
TZNAME:PST
DTSTART:20231105T090000
END:STANDARD
END:VTIMEZONE
BEGIN:VEVENT
DTSTART;TZID=America/Los_Angeles:20230118T183000
DTEND;TZID=America/Los_Angeles:20230118T193000
DTSTAMP:20260425T084542
CREATED:20230119T022005Z
LAST-MODIFIED:20230119T022005Z
UID:17716-1674066600-1674070200@www.ayclogic.com
SUMMARY:6:30 PM – Intro To Python – Sebastian
DESCRIPTION:Today We Did\n\nQuiz review\nIn case you need anything\, feel free to email me at sebastian@ayclogic.com\n\nHomework\n\nName your homework JAN18_quiz_review_hw\, please submit by next Tuesday.\nHomework: Please work through the following website: https://www.ayclogic.com/intro-to-python-exercises/
URL:https://www.ayclogic.com/event/630-pm-intro-to-python-sebastian-3/
CATEGORIES:Python Class,Python Level 1
END:VEVENT
END:VCALENDAR