BEGIN:VCALENDAR
VERSION:2.0
PRODID:-//American Young Coder - ECPv6.10.1.1//NONSGML v1.0//EN
CALSCALE:GREGORIAN
METHOD:PUBLISH
X-WR-CALNAME:American Young Coder
X-ORIGINAL-URL:https://www.ayclogic.com
X-WR-CALDESC:Events for American Young Coder
REFRESH-INTERVAL;VALUE=DURATION:PT1H
X-Robots-Tag:noindex
X-PUBLISHED-TTL:PT1H
BEGIN:VTIMEZONE
TZID:America/Los_Angeles
BEGIN:DAYLIGHT
TZOFFSETFROM:-0800
TZOFFSETTO:-0700
TZNAME:PDT
DTSTART:20230312T100000
END:DAYLIGHT
BEGIN:STANDARD
TZOFFSETFROM:-0700
TZOFFSETTO:-0800
TZNAME:PST
DTSTART:20231105T090000
END:STANDARD
END:VTIMEZONE
BEGIN:VEVENT
DTSTART;TZID=America/Los_Angeles:20230207T170000
DTEND;TZID=America/Los_Angeles:20230207T180000
DTSTAMP:20260425T095159
CREATED:20230213T005856Z
LAST-MODIFIED:20230213T005856Z
UID:17971-1675789200-1675792800@www.ayclogic.com
SUMMARY:5 PM - Intro To Python - Gamas
DESCRIPTION:Homework\n\nCreate Turtle project proposal in a piece of paper like below\n\nLook for project criteria: https://www.ayclogic.com/intro-to-python-final-project-criteria/\nUpload your project proposal to your assigned homework google drive.
URL:https://www.ayclogic.com/event/5-pm-intro-to-python-gamas-7/
CATEGORIES:Python Class,Python Level 1
END:VEVENT
BEGIN:VEVENT
DTSTART;TZID=America/Los_Angeles:20230207T183000
DTEND;TZID=America/Los_Angeles:20230207T193000
DTSTAMP:20260425T095159
CREATED:20230214T000206Z
LAST-MODIFIED:20230215T021041Z
UID:17997-1675794600-1675798200@www.ayclogic.com
SUMMARY:6:30 PM – Python Object Oriented Programming – Sebastian
DESCRIPTION:Today We Did\n\nObject Oriented Programming\nIn case you need anything\, feel free to email me at sebastian@ayclogic.com\n\nHomework\n\nName your homework FEB7_oop_hw\, please submit by next Monday.\nHomework: Page 158 to 161
URL:https://www.ayclogic.com/event/630-pm-python-object-oriented-programming-sebastian-4/
CATEGORIES:OOP Python,Python Class
END:VEVENT
END:VCALENDAR