BEGIN:VCALENDAR
VERSION:2.0
PRODID:-//American Young Coder - ECPv6.10.1.1//NONSGML v1.0//EN
CALSCALE:GREGORIAN
METHOD:PUBLISH
X-WR-CALNAME:American Young Coder
X-ORIGINAL-URL:https://www.ayclogic.com
X-WR-CALDESC:Events for American Young Coder
REFRESH-INTERVAL;VALUE=DURATION:PT1H
X-Robots-Tag:noindex
X-PUBLISHED-TTL:PT1H
BEGIN:VTIMEZONE
TZID:America/Los_Angeles
BEGIN:DAYLIGHT
TZOFFSETFROM:-0800
TZOFFSETTO:-0700
TZNAME:PDT
DTSTART:20230312T100000
END:DAYLIGHT
BEGIN:STANDARD
TZOFFSETFROM:-0700
TZOFFSETTO:-0800
TZNAME:PST
DTSTART:20231105T090000
END:STANDARD
END:VTIMEZONE
BEGIN:VEVENT
DTSTART;TZID=America/Los_Angeles:20230210T173000
DTEND;TZID=America/Los_Angeles:20230210T183000
DTSTAMP:20260425T095157
CREATED:20230214T215537Z
LAST-MODIFIED:20230214T215537Z
UID:18029-1676050200-1676053800@www.ayclogic.com
SUMMARY:5:30 PM - Intro to Python - Gamas
DESCRIPTION:Homework\n\nContinue on Feb10_GrocerryShoppingCart.py\n\nAdd codes in this file so it can do the following\n\nWhat do you want to purchase:\n1. Frozen Pizza - $10\n2. Ice cream - $ 4\n3. Bread - $ 6\n4. Orange Chicken - $11\nEnter "done" to pay: 1\nThank you for purchasing Frozen Pizza for $10\n\nWhat do you want to purchase:\n1. Frozen Pizza - $10\n2. Ice cream - $ 4\n3. Bread - $ 6\n4. Orange Chicken - $11\nEnter "done" to pay: 2\nThank you for purchasing Ice cream for $4\n\nWhat do you want to purchase:\n1. Frozen Pizza - $10\n2. Ice cream - $ 4\n3. Bread - $ 6\n4. Orange Chicken - $11\nEnter "done" to pay: done\nThank you for shopping in AYC Logic supermarket.
URL:https://www.ayclogic.com/event/530-pm-intro-to-python-gamas-10/
CATEGORIES:Python Class,Python Level 1
END:VEVENT
END:VCALENDAR