BEGIN:VCALENDAR
VERSION:2.0
PRODID:-//American Young Coder - ECPv6.10.1.1//NONSGML v1.0//EN
CALSCALE:GREGORIAN
METHOD:PUBLISH
X-ORIGINAL-URL:https://www.ayclogic.com
X-WR-CALDESC:Events for American Young Coder
REFRESH-INTERVAL;VALUE=DURATION:PT1H
X-Robots-Tag:noindex
X-PUBLISHED-TTL:PT1H
BEGIN:VTIMEZONE
TZID:America/Los_Angeles
BEGIN:DAYLIGHT
TZOFFSETFROM:-0800
TZOFFSETTO:-0700
TZNAME:PDT
DTSTART:20230312T100000
END:DAYLIGHT
BEGIN:STANDARD
TZOFFSETFROM:-0700
TZOFFSETTO:-0800
TZNAME:PST
DTSTART:20231105T090000
END:STANDARD
END:VTIMEZONE
BEGIN:VEVENT
DTSTART;TZID=America/Los_Angeles:20230222T180000
DTEND;TZID=America/Los_Angeles:20230222T180000
DTSTAMP:20260425T054940
CREATED:20230223T025729Z
LAST-MODIFIED:20230223T025729Z
UID:18216-1677088800-1677088800@www.ayclogic.com
SUMMARY:6 PM - Python OOP - Gamas
DESCRIPTION:Homework\n\nContinue on LibrarySystem\nAdd new feature “5. List all old books”. Old books means books.publishing_year < 2000.\n\nPlease look at below options\n1. Add book\n2. List all books\n3. Find book by name\n4. Find book by id\n5. List all old books\nEnter your selection. Enter 'quit' to exit: 5\n\nNarnia - 1950 - CS Lewis\nLord of the rings - 1960 - JRR Tolkien\n\nPlease look at below options\n1. Add book\n2. List all books\n3. Find book by name\n4. Find book by id\n5. List all old books\nEnter your selection. Enter 'quit' to exit: 2\n\nNarnia - 1950 - CS Lewis\nLord of the rings - 1960 - JRR Tolkien\nLightning Thief - 2001 - Vincent
URL:https://www.ayclogic.com/event/6-pm-python-oop-gamas-17/
CATEGORIES:OOP Python,Python Class
END:VEVENT
BEGIN:VEVENT
DTSTART;TZID=America/Los_Angeles:20230222T183000
DTEND;TZID=America/Los_Angeles:20230222T193000
DTSTAMP:20260425T054940
CREATED:20230223T022236Z
LAST-MODIFIED:20230223T032650Z
UID:18210-1677090600-1677094200@www.ayclogic.com
SUMMARY:6:30 PM – Intro To Python – Sebastian
DESCRIPTION:Today We Did\n\nHow to generate a random number\nHow to get a random element from a list\nIn case you need anything\, feel free to email me at sebastian@ayclogic.com\n\nHomework\n\nName your homework FEB22_magic8ball_hw\, please submit by next Monday.\nHomework: Follow the instructions given by the following link:\nhttps://www.ayclogic.com/intro-to-python/magic-8-ball/
URL:https://www.ayclogic.com/event/630-pm-intro-to-python-sebastian-7/
CATEGORIES:Python Class,Python Level 1
END:VEVENT
END:VCALENDAR