BEGIN:VCALENDAR
VERSION:2.0
PRODID:-//American Young Coder - ECPv6.10.1.1//NONSGML v1.0//EN
CALSCALE:GREGORIAN
METHOD:PUBLISH
X-ORIGINAL-URL:https://www.ayclogic.com
X-WR-CALDESC:Events for American Young Coder
REFRESH-INTERVAL;VALUE=DURATION:PT1H
X-Robots-Tag:noindex
X-PUBLISHED-TTL:PT1H
BEGIN:VTIMEZONE
TZID:America/Los_Angeles
BEGIN:DAYLIGHT
TZOFFSETFROM:-0800
TZOFFSETTO:-0700
TZNAME:PDT
DTSTART:20230312T100000
END:DAYLIGHT
BEGIN:STANDARD
TZOFFSETFROM:-0700
TZOFFSETTO:-0800
TZNAME:PST
DTSTART:20231105T090000
END:STANDARD
END:VTIMEZONE
BEGIN:VEVENT
DTSTART;TZID=America/Los_Angeles:20230314T183000
DTEND;TZID=America/Los_Angeles:20230314T193000
DTSTAMP:20260425T125848
CREATED:20230315T022554Z
LAST-MODIFIED:20230315T022554Z
UID:18478-1678818600-1678822200@www.ayclogic.com
SUMMARY:6:30 PM – Python Object Oriented Programming – Sebastian
DESCRIPTION:Today We Did\n\nContinued creating the SchoolApplication class\nIn case you need anything\, feel free to email me at sebastian@ayclogic.com\n\nHomework\n\nName your homework MAR14_schoolapp_hw\, please submit by next Monday.\nHomework: Finish creating the find_student_using_dictionary method\, which should work exactly the same as the find_student method but uses the student_dictionary attribute we added.
URL:https://www.ayclogic.com/event/630-pm-python-object-oriented-programming-sebastian-9/
CATEGORIES:OOP Python,Python Class
END:VEVENT
END:VCALENDAR