BEGIN:VCALENDAR
VERSION:2.0
PRODID:-//American Young Coder - ECPv6.10.1.1//NONSGML v1.0//EN
CALSCALE:GREGORIAN
METHOD:PUBLISH
X-ORIGINAL-URL:https://www.ayclogic.com
X-WR-CALDESC:Events for American Young Coder
REFRESH-INTERVAL;VALUE=DURATION:PT1H
X-Robots-Tag:noindex
X-PUBLISHED-TTL:PT1H
BEGIN:VTIMEZONE
TZID:America/Los_Angeles
BEGIN:DAYLIGHT
TZOFFSETFROM:-0800
TZOFFSETTO:-0700
TZNAME:PDT
DTSTART:20230312T100000
END:DAYLIGHT
BEGIN:STANDARD
TZOFFSETFROM:-0700
TZOFFSETTO:-0800
TZNAME:PST
DTSTART:20231105T090000
END:STANDARD
END:VTIMEZONE
BEGIN:VEVENT
DTSTART;TZID=America/Los_Angeles:20230318T140000
DTEND;TZID=America/Los_Angeles:20230318T150000
DTSTAMP:20260425T101238
CREATED:20230318T230542Z
LAST-MODIFIED:20230318T230542Z
UID:18558-1679148000-1679151600@www.ayclogic.com
SUMMARY:2 PM – Intro To Python – Sebastian
DESCRIPTION:Today We Did\n\nFinished robot builder\nLearned how to draw a circle\nBegan drawing face\nIn case you need anything\, feel free to email me at sebastian@ayclogic.com\n\nHomework\n\nName your homework MAR18_face_hw\, please submit by next Friday.\nHomework:\na) Copy the code from class into the homework file and modify the left eye we drew to be in the right position and size. \nb) Try to draw the right eye correctly on the face.
URL:https://www.ayclogic.com/event/2-pm-intro-to-python-sebastian-24/
CATEGORIES:Python Class,Python Level 1
END:VEVENT
BEGIN:VEVENT
DTSTART;TZID=America/Los_Angeles:20230318T150000
DTEND;TZID=America/Los_Angeles:20230318T160000
DTSTAMP:20260425T101238
CREATED:20230318T230810Z
LAST-MODIFIED:20230318T230810Z
UID:18557-1679151600-1679155200@www.ayclogic.com
SUMMARY:3 PM – Intro To Python – Sebastian
DESCRIPTION:Today We Did\n\nContinued robot builder\nPut robot arms into function to move easier\nDrew robot legs and began left foot\nIn case you need anything\, feel free to email me at sebastian@ayclogic.com\n\nHomework\n\nName your homework MAR18_robot_builder_hw\, please submit by next Friday.\nHomework:\na) Copy the code from class into the homework file and modify the left foot to be sized the way you want it since we didn’t get to finish it in class. \nb) Try to draw the right foot\, remember that it shares the same x coordinate (left/right) as one other rectangle that we already drew\, and should have the same y coordinate (up/down) as the other foot.
URL:https://www.ayclogic.com/event/3-pm-intro-to-python-sebastian-24/
CATEGORIES:Python Class,Python Level 1
END:VEVENT
BEGIN:VEVENT
DTSTART;TZID=America/Los_Angeles:20230318T180000
DTEND;TZID=America/Los_Angeles:20230318T190000
DTSTAMP:20260425T101238
CREATED:20230319T020848Z
LAST-MODIFIED:20230325T213213Z
UID:18563-1679162400-1679166000@www.ayclogic.com
SUMMARY:6:00 PM - Intro to Python - Juan
DESCRIPTION:Today We Did\n\nReviewed creating lists and accessing list items using index.\nLearned about adding to a list using: append\, insert\nRemoving from a list: pop\, remove\, del\nIn case you need anything\, feel free to email me at juan@ayclogic.com\nView what we covered today at the google drive: https://drive.google.com/drive/folders/15Guajo6GvNi_09_rLw7QNwPyAcz1sBNA\n\nHomework\n\nCreate March18_ListHomework.py file and do the homework in this file.\nTRY IT YOURSELF from page 42: 3-4\, 3-5\, 3-6
URL:https://www.ayclogic.com/event/600-pm-intro-to-python-juan-7/
CATEGORIES:Python Class,Python Level 1
END:VEVENT
END:VCALENDAR