BEGIN:VCALENDAR
VERSION:2.0
PRODID:-//American Young Coder - ECPv6.10.1.1//NONSGML v1.0//EN
CALSCALE:GREGORIAN
METHOD:PUBLISH
X-WR-CALNAME:American Young Coder
X-ORIGINAL-URL:https://www.ayclogic.com
X-WR-CALDESC:Events for American Young Coder
REFRESH-INTERVAL;VALUE=DURATION:PT1H
X-Robots-Tag:noindex
X-PUBLISHED-TTL:PT1H
BEGIN:VTIMEZONE
TZID:America/Los_Angeles
BEGIN:DAYLIGHT
TZOFFSETFROM:-0800
TZOFFSETTO:-0700
TZNAME:PDT
DTSTART:20230312T100000
END:DAYLIGHT
BEGIN:STANDARD
TZOFFSETFROM:-0700
TZOFFSETTO:-0800
TZNAME:PST
DTSTART:20231105T090000
END:STANDARD
END:VTIMEZONE
BEGIN:VEVENT
DTSTART;TZID=America/Los_Angeles:20230325T090000
DTEND;TZID=America/Los_Angeles:20230325T100000
DTSTAMP:20260425T112900
CREATED:20230325T030504Z
LAST-MODIFIED:20230331T214959Z
UID:18650-1679734800-1679738400@www.ayclogic.com
SUMMARY:9 AM - Indo - Intro To Python - Gamas
DESCRIPTION:Homework\n\nContinue in March25_Turtle_Basic.py\nDraw a square (white color)\, a rectangle (yellow color)\, a triangle (blue color) and an octagon (pink color) according to coordinates below.
URL:https://www.ayclogic.com/event/9-am-indo-intro-to-python-gamas/
CATEGORIES:Python Class,Python Level 1
END:VEVENT
BEGIN:VEVENT
DTSTART;TZID=America/Los_Angeles:20230325T130000
DTEND;TZID=America/Los_Angeles:20230325T140000
DTSTAMP:20260425T112900
CREATED:20230325T210433Z
LAST-MODIFIED:20230325T210433Z
UID:18662-1679749200-1679752800@www.ayclogic.com
SUMMARY:1 PM - Android Game Dev - Gamas
DESCRIPTION:Homework\n\nContinue on Tic Tac Toe game.\nIn the activity_main.xml\, change the color of the “Start Game” button from purple to blue\, similar to activity_game.xml.\nInside GameActivity.java use for loop to add action listener to 1st row.\nAfter this\, also use for loop to add action listener to 2nd and 3rd rows.\nIf you do it properly\, all boxes\, when you clicked\, will spit out “box clicked” message in the “Run” tab.\nThe hint\, you have to change the “boxId” every time you loop. Utilize the “i” in the for loop.
URL:https://www.ayclogic.com/event/1-pm-android-game-dev-gamas-5/
CATEGORIES:Python Class,Python Level 1
END:VEVENT
BEGIN:VEVENT
DTSTART;TZID=America/Los_Angeles:20230325T140000
DTEND;TZID=America/Los_Angeles:20230325T150000
DTSTAMP:20260425T112900
CREATED:20230326T000947Z
LAST-MODIFIED:20230326T000947Z
UID:18668-1679752800-1679756400@www.ayclogic.com
SUMMARY:2 PM – Intro To Python – Sebastian
DESCRIPTION:Today We Did\n\nContinued learning how to draw different shapes using Turtle\nFinished drawing faces (using circle function)\nIn case you need anything\, feel free to email me at sebastian@ayclogic.com\n\nHomework\n\nName your homework MAR25_project_proposal_hw\, please submit by next Friday.\nHomework: Use any pens\, pencils\, markers\, etc. to draw your project proposal on a piece of paper. Keep in mind that you will have to write Python code that will draw it.\nMake sure your proposal follows these requirements: https://www.ayclogic.com/intro-to-python-final-project-criteria/ \nExamples of what the final project will look like:\nhttps://www.ayclogic.com/python-digital-illustrations/
URL:https://www.ayclogic.com/event/2-pm-intro-to-python-sebastian-25/
CATEGORIES:Python Class,Python Level 1
END:VEVENT
BEGIN:VEVENT
DTSTART;TZID=America/Los_Angeles:20230325T150000
DTEND;TZID=America/Los_Angeles:20230325T160000
DTSTAMP:20260425T112900
CREATED:20230326T001129Z
LAST-MODIFIED:20230326T001129Z
UID:18669-1679756400-1679760000@www.ayclogic.com
SUMMARY:3 PM – Intro To Python – Sebastian
DESCRIPTION:Today We Did\n\nFinished robot builder\nIn case you need anything\, feel free to email me at sebastian@ayclogic.com\n\nHomework\n\nName your homework MAR25_robot_addition_hw\, please submit by next Friday.\nHomework: Add one thing to your robot that would make it unique to practice using the rectangle function.\nExamples: Give your robot a hat\, make your robot hold a flower\, put sunglasses on your robot.
URL:https://www.ayclogic.com/event/3-pm-intro-to-python-sebastian-25/
CATEGORIES:Python Class,Python Level 1
END:VEVENT
BEGIN:VEVENT
DTSTART;TZID=America/Los_Angeles:20230325T180000
DTEND;TZID=America/Los_Angeles:20230325T190000
DTSTAMP:20260425T112900
CREATED:20230327T055357Z
LAST-MODIFIED:20230327T055357Z
UID:18686-1679767200-1679770800@www.ayclogic.com
SUMMARY:6:00 PM - Intro to Python - Juan
DESCRIPTION:Today We Did\n\nReviewed adding to a list using: append\, insert\nReviewed removing from a list: pop\, remove\, del\nReviewed list access by index and modify by index.\nStarted learning about for-loops.\nIn case you need anything\, feel free to email me at juan@ayclogic.com\nView what we covered today at the google drive: https://drive.google.com/drive/folders/15Guajo6GvNi_09_rLw7QNwPyAcz1sBNA\n\nHomework\n\nCreate Apr1_ForLoop.py file\, and do the following pages:\npg. 54\, 55\, 56
URL:https://www.ayclogic.com/event/600-pm-intro-to-python-juan-8/
CATEGORIES:Python Class,Python Level 1
END:VEVENT
END:VCALENDAR