BEGIN:VCALENDAR
VERSION:2.0
PRODID:-//American Young Coder - ECPv6.10.1.1//NONSGML v1.0//EN
CALSCALE:GREGORIAN
METHOD:PUBLISH
X-ORIGINAL-URL:https://www.ayclogic.com
X-WR-CALDESC:Events for American Young Coder
REFRESH-INTERVAL;VALUE=DURATION:PT1H
X-Robots-Tag:noindex
X-PUBLISHED-TTL:PT1H
BEGIN:VTIMEZONE
TZID:America/Los_Angeles
BEGIN:DAYLIGHT
TZOFFSETFROM:-0800
TZOFFSETTO:-0700
TZNAME:PDT
DTSTART:20230312T100000
END:DAYLIGHT
BEGIN:STANDARD
TZOFFSETFROM:-0700
TZOFFSETTO:-0800
TZNAME:PST
DTSTART:20231105T090000
END:STANDARD
END:VTIMEZONE
BEGIN:VEVENT
DTSTART;TZID=America/Los_Angeles:20230328T170000
DTEND;TZID=America/Los_Angeles:20230328T180000
DTSTAMP:20260425T125848
CREATED:20230329T024138Z
LAST-MODIFIED:20230329T024138Z
UID:18708-1680022800-1680026400@www.ayclogic.com
SUMMARY:5 PM - Python OOP - Gamas
DESCRIPTION:Today We Did\n\nWe setup Pycharm\nWe started learning dictionary.\n\nHomework\n\nCreate March28_DictionaryHW.py\nCopy codes from page 92 to 95.\nDo Try It Yourself page 99.
URL:https://www.ayclogic.com/event/5-pm-python-oop-gamas-2/
CATEGORIES:OOP Python,Python Class
END:VEVENT
BEGIN:VEVENT
DTSTART;TZID=America/Los_Angeles:20230328T183000
DTEND;TZID=America/Los_Angeles:20230328T193000
DTSTAMP:20260425T125848
CREATED:20230329T023647Z
LAST-MODIFIED:20230329T023647Z
UID:18706-1680028200-1680031800@www.ayclogic.com
SUMMARY:6:30 PM – Python Object Oriented Programming – Sebastian
DESCRIPTION:Today We Did\n\nAdded teacher class and methods to school application project\nIn case you need anything\, feel free to email me at sebastian@ayclogic.com\n\nHomework\n\nName your homework MAR28_schoolapp_hw\, please submit by next Monday.\nHomework: Complete the following methods:\na) find_teacher_using_list()\nb) find_teacher_using_dictionary()
URL:https://www.ayclogic.com/event/630-pm-python-object-oriented-programming-sebastian-11/
CATEGORIES:OOP Python,Python Class
END:VEVENT
END:VCALENDAR