BEGIN:VCALENDAR
VERSION:2.0
PRODID:-//American Young Coder - ECPv6.10.1.1//NONSGML v1.0//EN
CALSCALE:GREGORIAN
METHOD:PUBLISH
X-ORIGINAL-URL:https://www.ayclogic.com
X-WR-CALDESC:Events for American Young Coder
REFRESH-INTERVAL;VALUE=DURATION:PT1H
X-Robots-Tag:noindex
X-PUBLISHED-TTL:PT1H
BEGIN:VTIMEZONE
TZID:America/Los_Angeles
BEGIN:DAYLIGHT
TZOFFSETFROM:-0800
TZOFFSETTO:-0700
TZNAME:PDT
DTSTART:20230312T100000
END:DAYLIGHT
BEGIN:STANDARD
TZOFFSETFROM:-0700
TZOFFSETTO:-0800
TZNAME:PST
DTSTART:20231105T090000
END:STANDARD
END:VTIMEZONE
BEGIN:VEVENT
DTSTART;TZID=America/Los_Angeles:20230506T090000
DTEND;TZID=America/Los_Angeles:20230506T100000
DTSTAMP:20260425T125850
CREATED:20230506T031017Z
LAST-MODIFIED:20230506T031017Z
UID:19604-1683363600-1683367200@www.ayclogic.com
SUMMARY:9 AM - Indo - Intro To Python - Gamas
DESCRIPTION:Today We Did\n\nWe continued on April22_DrawFace\,py\nWe completed the draw_face(x\,y) function.\n\nHomework\n\nCreate a new python file May6_DrawFace2.py\nCopy the rect and draw_circle functions from April22_DrawFace.py into this new file.\nCreate a new function draw_face2(x\,y) and everytime you call this function\, it will draw a face like below.\n\nCall this function 5 times to draw 5 faces in 5 different locations.
URL:https://www.ayclogic.com/event/9-am-indo-intro-to-python-gamas-5/
CATEGORIES:Python Class,Python Level 1
END:VEVENT
BEGIN:VEVENT
DTSTART;TZID=America/Los_Angeles:20230506T140000
DTEND;TZID=America/Los_Angeles:20230506T150000
DTSTAMP:20260425T125850
CREATED:20230506T215529Z
LAST-MODIFIED:20230506T215529Z
UID:19617-1683381600-1683385200@www.ayclogic.com
SUMMARY:2 PM – Intro To Python – Sebastian
DESCRIPTION:Today We Did\n\nFinished Robux Balance program\nIn case you need anything\, feel free to email me at sebastian@ayclogic.com\n\nHomework\n\nName your homework MAY6_project_edits_hw\, please submit by next Monday.\nHomework: I will be sending out private emails to all of you with specific corrections on what deductions we got on our project and our grades\, but you can get all the points back if you redo it correctly so please spend your time fixing those corrections.
URL:https://www.ayclogic.com/event/2-pm-intro-to-python-sebastian-31/
CATEGORIES:Python Class,Python Level 1
END:VEVENT
BEGIN:VEVENT
DTSTART;TZID=America/Los_Angeles:20230506T150000
DTEND;TZID=America/Los_Angeles:20230506T160000
DTSTAMP:20260425T125850
CREATED:20230506T230236Z
LAST-MODIFIED:20230506T230236Z
UID:19619-1683385200-1683388800@www.ayclogic.com
SUMMARY:3 PM – Intro To Python – Sebastian
DESCRIPTION:Today We Did\n\nFinished grocery system\nBegan robux shopping cart\nIn case you need anything\, feel free to email me at sebastian@ayclogic.com\n\nHomework\n\nName your homework JAN17_dictionary_hw\, please submit by next Friday.\nHomework: Continue where we left off in the Robux shopping program and try to create a while loop\, and retrieve user input the same way we did for our grocery system program. If you want to try and finish more of the program\, see how much you can finish!\nClass code in case you missed it:\n\nmenu = “””What do you want to do:\n1. Buy hat 100 Robux\n2. Buy hair 150 Robux\n3. VIP Server 500 Robux\n4. Add more Robux\n5. Exit\nEnter your selection: “”” \nshopping_cart = []\nrobux = 300
URL:https://www.ayclogic.com/event/3-pm-intro-to-python-sebastian-29/
CATEGORIES:Python Class,Python Level 1
END:VEVENT
BEGIN:VEVENT
DTSTART;TZID=America/Los_Angeles:20230506T180000
DTEND;TZID=America/Los_Angeles:20230506T190000
DTSTAMP:20260425T125850
CREATED:20230507T021508Z
LAST-MODIFIED:20230507T021508Z
UID:19628-1683396000-1683399600@www.ayclogic.com
SUMMARY:6:00 PM - Intro to Python - Juan
DESCRIPTION:Today We Did\n\nStarted learning about functions\, defining a function\, parameters\, and return values\n\nHomework\n\nNumber 4 – 6 from https://www.ayclogic.com/list-inputs-if-and-else-loops-and-function/ \nPg. 130-133
URL:https://www.ayclogic.com/event/600-pm-intro-to-python-juan-12/
CATEGORIES:Python Class,Python Level 1
END:VEVENT
END:VCALENDAR