BEGIN:VCALENDAR
VERSION:2.0
PRODID:-//American Young Coder - ECPv6.10.1.1//NONSGML v1.0//EN
CALSCALE:GREGORIAN
METHOD:PUBLISH
X-ORIGINAL-URL:https://www.ayclogic.com
X-WR-CALDESC:Events for American Young Coder
REFRESH-INTERVAL;VALUE=DURATION:PT1H
X-Robots-Tag:noindex
X-PUBLISHED-TTL:PT1H
BEGIN:VTIMEZONE
TZID:America/Los_Angeles
BEGIN:DAYLIGHT
TZOFFSETFROM:-0800
TZOFFSETTO:-0700
TZNAME:PDT
DTSTART:20230312T100000
END:DAYLIGHT
BEGIN:STANDARD
TZOFFSETFROM:-0700
TZOFFSETTO:-0800
TZNAME:PST
DTSTART:20231105T090000
END:STANDARD
END:VTIMEZONE
BEGIN:VEVENT
DTSTART;TZID=America/Los_Angeles:20230601T180000
DTEND;TZID=America/Los_Angeles:20230601T190000
DTSTAMP:20260425T125632
CREATED:20230602T020727Z
LAST-MODIFIED:20230602T020727Z
UID:20066-1685642400-1685646000@www.ayclogic.com
SUMMARY:6PM - Intro To Python - Anieerudh
DESCRIPTION:Gamas sub. \nToday We Did\n\nWe reviewed page 84 homework\nWe further review if elif else concepts\n\nHomework\n\nHomework is due WED night and please upload to your assigned google drive.\nCreate a new file June1_IfElseHomework3.py\n\nDo Number 3 only from https://www.ayclogic.com/list-inputs-if-and-else-loops-and-function/\nIf your book is edition 2:\n\nPage 85. 5-5 and 5-6\n\n\nIf your book is edition 3:\n\nPage 84. 5-5 and 5-6.
URL:https://www.ayclogic.com/event/6pm-intro-to-python-anieerudh/
CATEGORIES:Python Class,Python Level 1
END:VEVENT
END:VCALENDAR