BEGIN:VCALENDAR
VERSION:2.0
PRODID:-//American Young Coder - ECPv6.10.1.1//NONSGML v1.0//EN
CALSCALE:GREGORIAN
METHOD:PUBLISH
X-ORIGINAL-URL:https://www.ayclogic.com
X-WR-CALDESC:Events for American Young Coder
REFRESH-INTERVAL;VALUE=DURATION:PT1H
X-Robots-Tag:noindex
X-PUBLISHED-TTL:PT1H
BEGIN:VTIMEZONE
TZID:America/Los_Angeles
BEGIN:DAYLIGHT
TZOFFSETFROM:-0800
TZOFFSETTO:-0700
TZNAME:PDT
DTSTART:20230312T100000
END:DAYLIGHT
BEGIN:STANDARD
TZOFFSETFROM:-0700
TZOFFSETTO:-0800
TZNAME:PST
DTSTART:20231105T090000
END:STANDARD
END:VTIMEZONE
BEGIN:VEVENT
DTSTART;TZID=America/Los_Angeles:20230610T140000
DTEND;TZID=America/Los_Angeles:20230610T150000
DTSTAMP:20260425T183312
CREATED:20230610T233855Z
LAST-MODIFIED:20230610T233855Z
UID:20171-1686405600-1686409200@www.ayclogic.com
SUMMARY:2 PM – Intro To Python – Sebastian
DESCRIPTION:Today We Did\n\nReviewed dictionaries\nFinished phone book dictionary program\nIn case you need anything\, feel free to email me at sebastian@ayclogic.com\n\nHomework\n\nName your homework JUN10_dictionary_hw\, please submit by next Friday.\nHomework: In the book:\na) Page 92 to 97\nb) Page 99 TRY IT YOURSELF 6-1 and 6-2
URL:https://www.ayclogic.com/event/2-pm-intro-to-python-sebastian-33/
CATEGORIES:OOP Python,Python Class
END:VEVENT
BEGIN:VEVENT
DTSTART;TZID=America/Los_Angeles:20230610T180000
DTEND;TZID=America/Los_Angeles:20230610T190000
DTSTAMP:20260425T183312
CREATED:20230611T020632Z
LAST-MODIFIED:20230611T020815Z
UID:20173-1686420000-1686423600@www.ayclogic.com
SUMMARY:6:00 PM - Intro to Python - Juan
DESCRIPTION:Today We Did\n\nReviewed last week HW problems from https://www.ayclogic.com/intro-to-python/star-wars-problem/\nStarted learning about Python errors\, and the steps to fix errors:\n\nClick the bottom blue line\nRead the error message\nFix the error and rerun\n\n\nCompleted these problems: https://www.ayclogic.com/fixing-python-bugs/\n\nHomework\n\nCreate a new file June17_Errors_HW2.py and do:\n\nhttps://www.ayclogic.com/fix-python-bugs-2/\n\n\nCreate a new file June17_Quiz2_Review.py\n\nhttps://www.ayclogic.com/intro-to-python-exercises-for-quiz-2/\n\n\nQuestions? Email me at juan@ayclogic.com
URL:https://www.ayclogic.com/event/600-pm-intro-to-python-juan-16/
CATEGORIES:Python Class,Python Level 1
END:VEVENT
END:VCALENDAR