BEGIN:VCALENDAR
VERSION:2.0
PRODID:-//American Young Coder - ECPv6.10.1.1//NONSGML v1.0//EN
CALSCALE:GREGORIAN
METHOD:PUBLISH
X-ORIGINAL-URL:https://www.ayclogic.com
X-WR-CALDESC:Events for American Young Coder
REFRESH-INTERVAL;VALUE=DURATION:PT1H
X-Robots-Tag:noindex
X-PUBLISHED-TTL:PT1H
BEGIN:VTIMEZONE
TZID:America/Los_Angeles
BEGIN:DAYLIGHT
TZOFFSETFROM:-0800
TZOFFSETTO:-0700
TZNAME:PDT
DTSTART:20230312T100000
END:DAYLIGHT
BEGIN:STANDARD
TZOFFSETFROM:-0700
TZOFFSETTO:-0800
TZNAME:PST
DTSTART:20231105T090000
END:STANDARD
END:VTIMEZONE
BEGIN:VEVENT
DTSTART;TZID=America/Los_Angeles:20230622T180000
DTEND;TZID=America/Los_Angeles:20230622T190000
DTSTAMP:20260425T183230
CREATED:20230623T032919Z
LAST-MODIFIED:20230629T013007Z
UID:20342-1687456800-1687460400@www.ayclogic.com
SUMMARY:6 PM - Intro to Python - Gamas
DESCRIPTION:Today We Did\n\nWe learned more about input from shell. How to convert from String to Integer.\nWe learned about +=\, -=. *=\, /= .\n\nHomework\n\nCreate a new Python file June22_HowOldAreYou.py\nDo exercises only #1 from https://www.ayclogic.com/tell-me-your-age/ . Don’t do #2 and #3
URL:https://www.ayclogic.com/event/6-pm-intro-to-python-gamas-27/
CATEGORIES:Python Class,Python Level 1
END:VEVENT
BEGIN:VEVENT
DTSTART;TZID=America/Los_Angeles:20230622T190000
DTEND;TZID=America/Los_Angeles:20230622T203000
DTSTAMP:20260425T183230
CREATED:20230623T033746Z
LAST-MODIFIED:20230623T033809Z
UID:20344-1687460400-1687465800@www.ayclogic.com
SUMMARY:7:00 PM - Intro to Python - Juan
DESCRIPTION:Today We Did\n\nReviewed problems from Quiz #2.\nContinued learning about Turtle Graphics:\n\nReviewed HW.\nLearned about turtle.begin_fill() and turtle.end_fill()\n\n\nNew schedule: Monday/Thursday 7:00 PM – 8:30 PM\n\nHomework\n\nName your file June26_TurtleShapes_HW.py and do:\n\nCreate a function for draw_square():\n\nHave a parameter for pen_color\, and change the pen color\nFill the shape with turtle.begin_fill() and turtle.end_fill()\n\n\nCreate a function for draw_triangle():\n\nHave a parameter for pen_color\, and change the pen color\nFill the shape with turtle.begin_fill() and turtle.end_fill()\n\n\nLook at this image for your coordinates guidance\n\n\n\n\n\n\nQuestions? Email me at juan@ayclogic.com
URL:https://www.ayclogic.com/event/20344/
CATEGORIES:Python Class,Python Level 1
END:VEVENT
END:VCALENDAR