BEGIN:VCALENDAR
VERSION:2.0
PRODID:-//American Young Coder - ECPv6.10.1.1//NONSGML v1.0//EN
CALSCALE:GREGORIAN
METHOD:PUBLISH
X-WR-CALNAME:American Young Coder
X-ORIGINAL-URL:https://www.ayclogic.com
X-WR-CALDESC:Events for American Young Coder
REFRESH-INTERVAL;VALUE=DURATION:PT1H
X-Robots-Tag:noindex
X-PUBLISHED-TTL:PT1H
BEGIN:VTIMEZONE
TZID:America/Los_Angeles
BEGIN:DAYLIGHT
TZOFFSETFROM:-0800
TZOFFSETTO:-0700
TZNAME:PDT
DTSTART:20230312T100000
END:DAYLIGHT
BEGIN:STANDARD
TZOFFSETFROM:-0700
TZOFFSETTO:-0800
TZNAME:PST
DTSTART:20231105T090000
END:STANDARD
END:VTIMEZONE
BEGIN:VEVENT
DTSTART;TZID=America/Los_Angeles:20230628T150000
DTEND;TZID=America/Los_Angeles:20230628T170000
DTSTAMP:20260425T141544
CREATED:20230629T001921Z
LAST-MODIFIED:20230701T191238Z
UID:20428-1687964400-1687971600@www.ayclogic.com
SUMMARY:3:00 PM - Intro to Python - Juan
DESCRIPTION:Today We Did\n\nReviewed the homework due today for strings and if-else.\nReviewed:\n\nStrings: upper()\, title()\, lower()\nIf-elif-else\n\n\nLearned about lists:\n\nAccessing and modifying lists by index.\nAdding to lists: append()\, insert()\nRemoving from lists: remove()\, pop()\, del\n\n\nView what we covered today at https://drive.google.com/drive/u/1/folders/19Kl2Yg3yOu6YAXIjkh3fsztpv3OxsmvA\n\nHomework\n\nNo class on July 3rd\nNext class on July 5th\nName your file July3_if_elif_else_HW.py and do:\n\nPg. 117\, Try It Yourself: 7-1\, 7-2\n\n\nName your file July3_tell_me_your_age.py and do problem 1:\n\nhttps://www.ayclogic.com/tell-me-your-age/\n\n\nName your file July3_list_HW.py and do:\n\nCopy pg. 38-41\nPg. 42\, Try It Yourself: 3-4\, 3-5\, 3-6\n\n\nUpload the three files to your google drive folder.\nQuestions? Email me at juan@ayclogic.com
URL:https://www.ayclogic.com/event/300-pm-intro-to-python-juan-2/
CATEGORIES:Python Class,Python Level 1
END:VEVENT
BEGIN:VEVENT
DTSTART;TZID=America/Los_Angeles:20230628T183000
DTEND;TZID=America/Los_Angeles:20230628T193000
DTSTAMP:20260425T141544
CREATED:20230629T024450Z
LAST-MODIFIED:20230629T024924Z
UID:20440-1687977000-1687980600@www.ayclogic.com
SUMMARY:6:30 PM - Intro to Python - Juan
DESCRIPTION:Today We Did\n\nReviewed Magic8Ball using random.randint() and random.choice()\nFinished Password Generator and Star Wars problems.\nView what we covered at https://drive.google.com/drive/u/1/folders/1ZUAbuGWWGPRXxcEKHRhFdGLyFc7N5Jva\nNo class on July 5th\n\nHomework\n\nName your file: July12_FixingBugs1_HW.py and do:\n\nhttps://www.ayclogic.com/fixing-python-bugs/\n\n\nName your file: July12_FixingBugs2_HW.py and do:\n\nhttps://www.ayclogic.com/fix-python-bugs-2/\n\n\nQuestions? Contact me @ juan@ayclogic.com\nNo class on July 5th
URL:https://www.ayclogic.com/event/630-pm-intro-to-python-juan-8/
CATEGORIES:Python Class,Python Level 1
END:VEVENT
END:VCALENDAR