BEGIN:VCALENDAR
VERSION:2.0
PRODID:-//American Young Coder - ECPv6.10.1.1//NONSGML v1.0//EN
CALSCALE:GREGORIAN
METHOD:PUBLISH
X-ORIGINAL-URL:https://www.ayclogic.com
X-WR-CALDESC:Events for American Young Coder
REFRESH-INTERVAL;VALUE=DURATION:PT1H
X-Robots-Tag:noindex
X-PUBLISHED-TTL:PT1H
BEGIN:VTIMEZONE
TZID:America/Los_Angeles
BEGIN:DAYLIGHT
TZOFFSETFROM:-0800
TZOFFSETTO:-0700
TZNAME:PDT
DTSTART:20230312T100000
END:DAYLIGHT
BEGIN:STANDARD
TZOFFSETFROM:-0700
TZOFFSETTO:-0800
TZNAME:PST
DTSTART:20231105T090000
END:STANDARD
END:VTIMEZONE
BEGIN:VEVENT
DTSTART;TZID=America/Los_Angeles:20230712T150000
DTEND;TZID=America/Los_Angeles:20230712T170000
DTSTAMP:20260425T183228
CREATED:20230713T023944Z
LAST-MODIFIED:20230713T024343Z
UID:20565-1689174000-1689181200@www.ayclogic.com
SUMMARY:3:00 PM - Intro to Python - Juan
DESCRIPTION:Today We Did\n\nReviewed the homework due today about: while loop and functions\nFunctions:\n\nWithout return values\nWith return values\n\n\nRandom module:\n\nrandom.randint(start\, end)\, random.choice(list)\nMagic8Ball\n\n\nView what we covered today at https://drive.google.com/drive/u/1/folders/19Kl2Yg3yOu6YAXIjkh3fsztpv3OxsmvA\n\nHomework\n\nName your file July17_Functions_HW.py and do problems 4 – 7:\n\nhttps://www.ayclogic.com/list-inputs-if-and-else-loops-and-function/\n\n\nUpload the file to your google drive folder.\nQuestions? Email me at juan@ayclogic.com.
URL:https://www.ayclogic.com/event/300-pm-intro-to-python-juan-5/
CATEGORIES:Python Class,Python Level 1
END:VEVENT
BEGIN:VEVENT
DTSTART;TZID=America/Los_Angeles:20230712T183000
DTEND;TZID=America/Los_Angeles:20230712T193000
DTSTAMP:20260425T183228
CREATED:20230713T024626Z
LAST-MODIFIED:20230713T024626Z
UID:20567-1689186600-1689190200@www.ayclogic.com
SUMMARY:6:30 PM - Intro to Python - Juan
DESCRIPTION:Today We Did\n\nReviewed fixing bugs HW\, part 1 and part 2.\nReviewed errors and fixing bugs.\nReviewed quiz 2 practice problems:\n\nhttps://www.ayclogic.com/intro-to-python-exercises-for-quiz-2/\n\n\nView what we covered at https://drive.google.com/drive/u/1/folders/1ZUAbuGWWGPRXxcEKHRhFdGLyFc7N5Jva\n\nHomework\n\nStudy for Quiz 2\n\nPrevious quiz 1 problems\, random module\, fixing errors\, functions\, etc.\n\n\nQuestions? Contact me @ juan@ayclogic.com\nNo class on July 5th
URL:https://www.ayclogic.com/event/630-pm-intro-to-python-juan-9/
CATEGORIES:Python Class,Python Level 1
END:VEVENT
END:VCALENDAR