BEGIN:VCALENDAR
VERSION:2.0
PRODID:-//American Young Coder - ECPv6.10.1.1//NONSGML v1.0//EN
CALSCALE:GREGORIAN
METHOD:PUBLISH
X-WR-CALNAME:American Young Coder
X-ORIGINAL-URL:https://www.ayclogic.com
X-WR-CALDESC:Events for American Young Coder
REFRESH-INTERVAL;VALUE=DURATION:PT1H
X-Robots-Tag:noindex
X-PUBLISHED-TTL:PT1H
BEGIN:VTIMEZONE
TZID:America/Los_Angeles
BEGIN:DAYLIGHT
TZOFFSETFROM:-0800
TZOFFSETTO:-0700
TZNAME:PDT
DTSTART:20230312T100000
END:DAYLIGHT
BEGIN:STANDARD
TZOFFSETFROM:-0700
TZOFFSETTO:-0800
TZNAME:PST
DTSTART:20231105T090000
END:STANDARD
END:VTIMEZONE
BEGIN:VEVENT
DTSTART;TZID=America/Los_Angeles:20230724T150000
DTEND;TZID=America/Los_Angeles:20230724T170000
DTSTAMP:20260425T170656
CREATED:20230725T000848Z
LAST-MODIFIED:20230727T000858Z
UID:20814-1690210800-1690218000@www.ayclogic.com
SUMMARY:3:00 PM - Intro to Python - Juan
DESCRIPTION:Today We Did\n\nFinished Robot Builder\nComplete complex shapes and Face 1.\nView what we covered today at https://drive.google.com/drive/u/1/folders/19Kl2Yg3yOu6YAXIjkh3fsztpv3OxsmvA\n\nHomework\n\nName your file July26_Face2_HW.py\n\nFinish the Face2 function\n\n\nQuestions? Email me at juan@ayclogic.com.
URL:https://www.ayclogic.com/event/300-pm-intro-to-python-juan-8/
CATEGORIES:Python Class,Python Level 1
END:VEVENT
BEGIN:VEVENT
DTSTART;TZID=America/Los_Angeles:20230724T190000
DTEND;TZID=America/Los_Angeles:20230724T200000
DTSTAMP:20260425T170656
CREATED:20230725T030922Z
LAST-MODIFIED:20230725T031104Z
UID:20787-1690225200-1690228800@www.ayclogic.com
SUMMARY:7 PM – Python Game Development – Sebastian
DESCRIPTION:Today We Did\n\nCreated bird class with constructor and update method\nCreated sprite group to add instance of bird\nAdded create_bird() method which creates new bird objects according to our timer\nCode from main.py: \nCode from bird.py: \nIn case you need anything\, feel free to email me at sebastian@ayclogic.com\n\nHomework\n\nBe sure to create a good commit message and push your homework by next Sunday\nHomework:\n\nMake a class named Cloud in a file called cloud.py similar to the one we made for Bird. Use the cloud1.png image. You don’t need to scale this picture. Make it move to the right.\nIn main.py\, make a new group called self.cloud_group. Make an instance of the new cloud and add it to the group (where should this instance be put? Inside the constructor or the game loop?). Then call update for the cloud group in the game loop.
URL:https://www.ayclogic.com/event/7-pm-python-game-development-sebastian-2/
CATEGORIES:Python Class,Python Game Development
END:VEVENT
BEGIN:VEVENT
DTSTART;TZID=America/Los_Angeles:20230724T190000
DTEND;TZID=America/Los_Angeles:20230724T210000
DTSTAMP:20260425T170656
CREATED:20230727T001236Z
LAST-MODIFIED:20230727T001321Z
UID:20818-1690225200-1690232400@www.ayclogic.com
SUMMARY:7:00 PM - Intro to Python - Juan
DESCRIPTION:Today We Did\n\nFinal test\nSubmitted final project
URL:https://www.ayclogic.com/event/700-pm-intro-to-python-juan-8/
CATEGORIES:Python Class,Python Level 1
END:VEVENT
END:VCALENDAR