BEGIN:VCALENDAR
VERSION:2.0
PRODID:-//American Young Coder - ECPv6.10.1.1//NONSGML v1.0//EN
CALSCALE:GREGORIAN
METHOD:PUBLISH
X-ORIGINAL-URL:https://www.ayclogic.com
X-WR-CALDESC:Events for American Young Coder
REFRESH-INTERVAL;VALUE=DURATION:PT1H
X-Robots-Tag:noindex
X-PUBLISHED-TTL:PT1H
BEGIN:VTIMEZONE
TZID:America/Los_Angeles
BEGIN:DAYLIGHT
TZOFFSETFROM:-0800
TZOFFSETTO:-0700
TZNAME:PDT
DTSTART:20230312T100000
END:DAYLIGHT
BEGIN:STANDARD
TZOFFSETFROM:-0700
TZOFFSETTO:-0800
TZNAME:PST
DTSTART:20231105T090000
END:STANDARD
END:VTIMEZONE
BEGIN:VEVENT
DTSTART;TZID=America/Los_Angeles:20230802T150000
DTEND;TZID=America/Los_Angeles:20230802T170000
DTSTAMP:20260425T154805
CREATED:20230803T023028Z
LAST-MODIFIED:20230803T023028Z
UID:20937-1690988400-1690995600@www.ayclogic.com
SUMMARY:3:00 PM - Intro to Python - Juan
DESCRIPTION:Today We Did\n\nRobux Grocery Balance review\nTest review\nTurtle review\n\nHomework\n\nSubmit project before test on August 7th\nStudy for final test.
URL:https://www.ayclogic.com/event/300-pm-intro-to-python-juan-10/
CATEGORIES:Python Class,Python Level 1
END:VEVENT
BEGIN:VEVENT
DTSTART;TZID=America/Los_Angeles:20230802T183000
DTEND;TZID=America/Los_Angeles:20230802T193000
DTSTAMP:20260425T154805
CREATED:20230803T022802Z
LAST-MODIFIED:20230803T022809Z
UID:20933-1691001000-1691004600@www.ayclogic.com
SUMMARY:6:30 PM - Intro to Python - Juan
DESCRIPTION:Today We Did\n\nQuiz 2 Review\nStarted learning about Turtle\n\nHomework\n\nCreate a new file “Aug9_TurtleShapesHomework.py”\nFill in all shapes\nCreate a new function “draw_rectangle”. One parameter: pen_color. Inside the function\, draw a rectangle shape using turtle module. Call the function and pass any color to the function.\nCreate a new function “draw_square”. One parameter: pen_color. Inside the function\, draw a square shape using turtle module. Call the function and pass any color to the function.\nCreate a new function “draw_octagon”. One parameter: pen_color. Inside the function\, draw a octagon shape using turtle module. Call the function and pass any color to the function.\nCreate a new function “draw_triangle”. One parameter: pen_color. Inside the function\, draw a triangle shape using turtle module. Call the function and pass any color to the function.\nLook at this image for your coordinates guidance
URL:https://www.ayclogic.com/event/630-pm-intro-to-python-juan-11/
CATEGORIES:Python Class,Python Level 1
END:VEVENT
END:VCALENDAR