BEGIN:VCALENDAR
VERSION:2.0
PRODID:-//American Young Coder - ECPv6.10.1.1//NONSGML v1.0//EN
CALSCALE:GREGORIAN
METHOD:PUBLISH
X-WR-CALNAME:American Young Coder
X-ORIGINAL-URL:https://www.ayclogic.com
X-WR-CALDESC:Events for American Young Coder
REFRESH-INTERVAL;VALUE=DURATION:PT1H
X-Robots-Tag:noindex
X-PUBLISHED-TTL:PT1H
BEGIN:VTIMEZONE
TZID:America/Los_Angeles
BEGIN:DAYLIGHT
TZOFFSETFROM:-0800
TZOFFSETTO:-0700
TZNAME:PDT
DTSTART:20230312T100000
END:DAYLIGHT
BEGIN:STANDARD
TZOFFSETFROM:-0700
TZOFFSETTO:-0800
TZNAME:PST
DTSTART:20231105T090000
END:STANDARD
END:VTIMEZONE
BEGIN:VEVENT
DTSTART;TZID=America/Los_Angeles:20230805T090000
DTEND;TZID=America/Los_Angeles:20230805T110000
DTSTAMP:20260425T171624
CREATED:20230805T021808Z
LAST-MODIFIED:20230805T021808Z
UID:20972-1691226000-1691233200@www.ayclogic.com
SUMMARY:9 AM - Intro To Python - Indo - Gamas
DESCRIPTION:Today We Did\n\n2-hours final test.
URL:https://www.ayclogic.com/event/9-am-intro-to-python-indo-gamas-4/
CATEGORIES:Python Class,Python Level 1
END:VEVENT
BEGIN:VEVENT
DTSTART;TZID=America/Los_Angeles:20230805T140000
DTEND;TZID=America/Los_Angeles:20230805T150000
DTSTAMP:20260425T171624
CREATED:20230807T204356Z
LAST-MODIFIED:20230807T204356Z
UID:20996-1691244000-1691247600@www.ayclogic.com
SUMMARY:2 PM – Python Object Oriented Programming – Sebastian
DESCRIPTION:Today We Did\n\nRevisited our old grocery system\nApplied object oriented programming to it\, began Grocery System project\nIn case you need anything\, feel free to email me at sebastian@ayclogic.com\n\nHomework\n\nPlease submit your homework to the corresponding project’s folder in your Google Drive\nHomework: Recall that we created dictionaries to store Grocery Item objects. Try to fix the rest of the code from class to make this code work as it did previously when we had 2 dictionaries for the name and price of each grocery item. 
URL:https://www.ayclogic.com/event/2-pm-python-object-oriented-programming-sebastian-7/
CATEGORIES:OOP Python,Python Class
END:VEVENT
BEGIN:VEVENT
DTSTART;TZID=America/Los_Angeles:20230805T150000
DTEND;TZID=America/Los_Angeles:20230805T160000
DTSTAMP:20260425T171624
CREATED:20230807T204952Z
LAST-MODIFIED:20230807T205416Z
UID:20995-1691247600-1691251200@www.ayclogic.com
SUMMARY:3 PM – Python Object Oriented Programming – Sebastian
DESCRIPTION:Today We Did\n\nBegan working on school system project\nStarted learning how to build code from a menu that we’re given\nIn case you need anything\, feel free to email me at sebastian@ayclogic.com\n\nHomework\n\nPlease submit your homework to the corresponding project’s folder in your Google Drive\nHomework: Try to implement option 3 in our menu\, “3. List all students dictionary”You will make a method for this just like we did for option 2 in the menu “2. List all students list”\, but this time it will loop through the dictionary attribute “self.student_dictionary”.
URL:https://www.ayclogic.com/event/3-pm-python-object-oriented-programming-sebastian-5/
CATEGORIES:OOP Python,Python Class
END:VEVENT
BEGIN:VEVENT
DTSTART;TZID=America/Los_Angeles:20230805T170000
DTEND;TZID=America/Los_Angeles:20230805T180000
DTSTAMP:20260425T171624
CREATED:20230807T205223Z
LAST-MODIFIED:20230807T205223Z
UID:20999-1691254800-1691258400@www.ayclogic.com
SUMMARY:5 PM – Intro to Python – Shawn (Substitute: Sebastian)
DESCRIPTION:Today We Did\n\nReviewed data types and operations\nLearned about if\, elif\, and else\nLearned about the special keywords “and” & “or”\, and how to use them with conditions\nIn case you need anything\, feel free to email me at sebastian@ayclogic.com\n\nHomework\n\nPlease name your homework “AUG5_condition_hw” and submit to the Google Drive\nHomework: Pages 78-81 from the textbook
URL:https://www.ayclogic.com/event/5-pm-intro-to-python-shawn-substitute-sebastian/
CATEGORIES:Python Class,Python Level 1
END:VEVENT
END:VCALENDAR