BEGIN:VCALENDAR
VERSION:2.0
PRODID:-//American Young Coder - ECPv6.10.1.1//NONSGML v1.0//EN
CALSCALE:GREGORIAN
METHOD:PUBLISH
X-WR-CALNAME:American Young Coder
X-ORIGINAL-URL:https://www.ayclogic.com
X-WR-CALDESC:Events for American Young Coder
REFRESH-INTERVAL;VALUE=DURATION:PT1H
X-Robots-Tag:noindex
X-PUBLISHED-TTL:PT1H
BEGIN:VTIMEZONE
TZID:America/Los_Angeles
BEGIN:DAYLIGHT
TZOFFSETFROM:-0800
TZOFFSETTO:-0700
TZNAME:PDT
DTSTART:20230312T100000
END:DAYLIGHT
BEGIN:STANDARD
TZOFFSETFROM:-0700
TZOFFSETTO:-0800
TZNAME:PST
DTSTART:20231105T090000
END:STANDARD
END:VTIMEZONE
BEGIN:VEVENT
DTSTART;TZID=America/Los_Angeles:20230809T183000
DTEND;TZID=America/Los_Angeles:20230809T193000
DTSTAMP:20260425T171007
CREATED:20230810T031544Z
LAST-MODIFIED:20230810T031544Z
UID:21037-1691605800-1691609400@www.ayclogic.com
SUMMARY:6:30 PM - Intro to Python - Juan
DESCRIPTION:Today We Did\n\nReviewed Aug9_TurtleShapesHomework.py\nStarted Robot Builder\n\nHomework\n\nFinish the rest of the Robot Builder project\n\nName your file: Aug15_RobotBuilder.py\nFinish the legs\, body\, neck\, head\, eyes\, mouth
URL:https://www.ayclogic.com/event/630-pm-intro-to-python-juan-12/
CATEGORIES:Python Class,Python Level 1
END:VEVENT
END:VCALENDAR